FILENAME: O4711215.NES.950368.tif
QUADRANGLE_NAME: CHOTEAU
QUADRANT: NE
WEST_LONGITUDE: -112 11 15.00000
EAST_LONGITUDE: -112 7 30.00000
NORTH_LATITUDE: 47 52 30.00000
SOUTH_LATITUDE: 47 48 45.00000
PRODUCTION_DATE: 1998 12 16
RASTER_ORDER: LEFT_RIGHT/TOP_BOTTOM
BAND_ORGANIZATION: SINGLE FILE
BAND_CONTENT: BLACK&WHITE
BAND_CONTENT: UNDEFINED
BAND_CONTENT: UNDEFINED
BITS_PER_PIXEL: 8
SAMPLES_AND_LINES: 5460 7650
HORIZONTAL_DATUM: NAD83
HORIZONTAL_COORDINATE_SYSTEM: UTM
COORDINATE_ZONE: 12
HORIZONTAL_UNITS: METERS
HORIZONTAL_RESOLUTION: 1.00000
SECONDARY_HORIZONTAL_DATUM: NAD27
XY_ORIGIN: 410730.00000 5303400.00000
SECONDARY_XY_ORIGIN: 410791.17500 5303185.25900
NATION: US
STATE: MT
NW_QUAD_CORNER_XY: 411204.69400 5303089.67100
NE_QUAD_CORNER_XY: 415878.07000 5303019.71300
SE_QUAD_CORNERY_XY: 415776.94900 5296073.41900
SW_QUAD_CORNER_XY: 411097.95300 5296143.39200
SECONDARY_NW_QUAD_XY: 411201.90700 5302870.84400
SECONDARY_NE_QUAD_XY: 415875.43000 5302800.88300
SECONDARY_SE_QUAD_XY: 415774.30800 5295854.60600
SECONDARY_SW_QUAD_XY: 411095.16600 5295924.58100
RMSE_XY: 0.77000
IMAGE_SOURCE: BLACK AND WHITE FILM
SOURCE_IMAGE_ID: NAPP 8380 135
SOURCE_IMAGE_DATE: 1995 07 01
SOURCE_DEM_DATE: 1987 00 00
AGENCY: WESTERN MAPPING CENTER (WMC)
PRODUCER: ANALYTICAL SURVEYS INC.
PRODUCTION_SYSTEM: ORBIT OR_RECTIFY V.5.2
COMPRESSION: UNDEFINED
STANDARD_VERSION: 1996 12
METADATA_DATE: 1998 12 17
DATA_FILE_SIZE: 41774460
BYTE_COUNT: 5460
