FILENAME: O4711214.SWS.950359.tif
QUADRANGLE_NAME: TETON BUTTES
QUADRANT: SW
WEST_LONGITUDE: -112 22 30.00000
EAST_LONGITUDE: -112 18 45.00000
NORTH_LATITUDE: 47 48 45.00000
SOUTH_LATITUDE: 47 45 0.00000
PRODUCTION_DATE: 1998 12 17
RASTER_ORDER: LEFT_RIGHT/TOP_BOTTOM
BAND_ORGANIZATION: SINGLE FILE
BAND_CONTENT: BLACK&WHITE
BAND_CONTENT: UNDEFINED
BAND_CONTENT: UNDEFINED
BITS_PER_PIXEL: 8
SAMPLES_AND_LINES: 5490 7650
HORIZONTAL_DATUM: NAD83
HORIZONTAL_COORDINATE_SYSTEM: UTM
COORDINATE_ZONE: 12
HORIZONTAL_UNITS: METERS
HORIZONTAL_RESOLUTION: 1.00000
SECONDARY_HORIZONTAL_DATUM: NAD27
XY_ORIGIN: 396570.00000 5296680.00000
SECONDARY_XY_ORIGIN: 396631.33200 5296465.46400
NATION: US
STATE: MT
NW_QUAD_CORNER_XY: 397061.03100 5296376.01100
NE_QUAD_CORNER_XY: 401739.99400 5296294.68800
SE_QUAD_CORNERY_XY: 401622.13200 5289348.51300
SW_QUAD_CORNER_XY: 396937.55500 5289429.85300
SECONDARY_NW_QUAD_XY: 397057.80400 5296157.20800
SECONDARY_NE_QUAD_XY: 401736.91400 5296075.88200
SECONDARY_SE_QUAD_XY: 401619.05200 5289129.72500
SECONDARY_SW_QUAD_XY: 396934.32800 5289211.06700
RMSE_XY: 0.90000
IMAGE_SOURCE: BLACK AND WHITE FILM
SOURCE_IMAGE_ID: NAPP 8381 99
SOURCE_IMAGE_DATE: 1995 07 28
SOURCE_DEM_DATE: 1987 00 00
AGENCY: WESTERN MAPPING CENTER (WMC)
PRODUCER: ANALYTICAL SURVEYS INC.
PRODUCTION_SYSTEM: ORBIT OR_RECTIFY V.5.2
COMPRESSION: UNDEFINED
STANDARD_VERSION: 1996 12
METADATA_DATE: 1998 12 30
DATA_FILE_SIZE: 42003990
BYTE_COUNT: 5490
