FILENAME: O4711213.SWS.950245.tif
QUADRANGLE_NAME: WATSON FLATS
QUADRANT: SW
WEST_LONGITUDE: -112 30 0.00000
EAST_LONGITUDE: -112 26 15.00000
NORTH_LATITUDE: 47 48 45.00000
SOUTH_LATITUDE: 47 45 0.00000
PRODUCTION_DATE: 1998 12 16
RASTER_ORDER: LEFT_RIGHT/TOP_BOTTOM
BAND_ORGANIZATION: SINGLE FILE
BAND_CONTENT: BLACK&WHITE
BAND_CONTENT: UNDEFINED
BAND_CONTENT: UNDEFINED
BITS_PER_PIXEL: 8
SAMPLES_AND_LINES: 5520 7650
HORIZONTAL_DATUM: NAD83
HORIZONTAL_COORDINATE_SYSTEM: UTM
COORDINATE_ZONE: 12
HORIZONTAL_UNITS: METERS
HORIZONTAL_RESOLUTION: 1.00000
SECONDARY_HORIZONTAL_DATUM: NAD27
XY_ORIGIN: 387180.00000 5296860.00000
SECONDARY_XY_ORIGIN: 387241.43300 5296645.49500
NATION: US
STATE: MT
NW_QUAD_CORNER_XY: 387703.14100 5296550.00900
NE_QUAD_CORNER_XY: 392382.08000 5296461.11800
SE_QUAD_CORNERY_XY: 392252.98900 5289514.97800
SW_QUAD_CORNER_XY: 387568.43600 5289603.88800
SECONDARY_NW_QUAD_XY: 387699.62100 5296331.21100
SECONDARY_NE_QUAD_XY: 392378.70600 5296242.31700
SECONDARY_SE_QUAD_XY: 392249.61600 5289296.19500
SECONDARY_SW_QUAD_XY: 387564.91600 5289385.10700
RMSE_XY: 1.06000
IMAGE_SOURCE: BLACK AND WHITE FILM
SOURCE_IMAGE_ID: NAPP 8384 108
SOURCE_IMAGE_DATE: 1995 08 04
SOURCE_DEM_DATE: 1987 00 00
AGENCY: WESTERN MAPPING CENTER (WMC)
PRODUCER: ANALYTICAL SURVEYS INC.
PRODUCTION_SYSTEM: ORBIT OR_RECTIFY V.5.2
COMPRESSION: UNDEFINED
STANDARD_VERSION: 1996 12
METADATA_DATE: 1998 12 17
DATA_FILE_SIZE: 42233520
BYTE_COUNT: 5520
