FILENAME: O4711212.SWS.950142.tif
QUADRANGLE_NAME: LAKE THEBOE
QUADRANT: SW
WEST_LONGITUDE: -112 37 30.00000
EAST_LONGITUDE: -112 33 45.00000
NORTH_LATITUDE: 47 48 45.00000
SOUTH_LATITUDE: 47 45 0.00000
PRODUCTION_DATE: 1998 12 15
RASTER_ORDER: LEFT_RIGHT/TOP_BOTTOM
BAND_ORGANIZATION: SINGLE FILE
BAND_CONTENT: BLACK&WHITE
BAND_CONTENT: UNDEFINED
BAND_CONTENT: UNDEFINED
BITS_PER_PIXEL: 8
SAMPLES_AND_LINES: 5520 7650
HORIZONTAL_DATUM: NAD83
HORIZONTAL_COORDINATE_SYSTEM: UTM
COORDINATE_ZONE: 12
HORIZONTAL_UNITS: METERS
HORIZONTAL_RESOLUTION: 1.00000
SECONDARY_HORIZONTAL_DATUM: NAD27
XY_ORIGIN: 377820.00000 5297040.00000
SECONDARY_XY_ORIGIN: 377881.58300 5296825.52400
NATION: US
STATE: MT
NW_QUAD_CORNER_XY: 378345.30400 5296739.14400
NE_QUAD_CORNER_XY: 383024.21600 5296642.68400
SE_QUAD_CORNERY_XY: 382883.89500 5289696.58200
SW_QUAD_CORNER_XY: 378199.36800 5289793.06200
SECONDARY_NW_QUAD_XY: 378341.49000 5296520.35200
SECONDARY_NE_QUAD_XY: 383020.54900 5296423.88900
SECONDARY_SE_QUAD_XY: 382880.22800 5289477.80500
SECONDARY_SW_QUAD_XY: 378195.55400 5289574.28700
RMSE_XY: 1.49000
IMAGE_SOURCE: BLACK AND WHITE FILM
SOURCE_IMAGE_ID: NAPP 8384 261
SOURCE_IMAGE_DATE: 1995 08 05
SOURCE_IMAGE_ID: NAPP 8384 259
SOURCE_IMAGE_DATE: 1995 08 05
SOURCE_DEM_DATE: 1987 00 00
AGENCY: WESTERN MAPPING CENTER (WMC)
PRODUCER: ANALYTICAL SURVEYS INC.
PRODUCTION_SYSTEM: ORBIT OR_RECTIFY V.5.2
COMPRESSION: UNDEFINED
STANDARD_VERSION: 1996 12
METADATA_DATE: 1998 12 17
DATA_FILE_SIZE: 42233520
BYTE_COUNT: 5520
