FILENAME: O4711211.NES.950121.tif
QUADRANGLE_NAME: EAR MOUNTAIN
QUADRANT: NE
WEST_LONGITUDE: -112 41 15.00000
EAST_LONGITUDE: -112 37 30.00000
NORTH_LATITUDE: 47 52 30.00000
SOUTH_LATITUDE: 47 48 45.00000
PRODUCTION_DATE: 1999 01 05
RASTER_ORDER: LEFT_RIGHT/TOP_BOTTOM
BAND_ORGANIZATION: SINGLE FILE
BAND_CONTENT: BLACK&WHITE
BAND_CONTENT: UNDEFINED
BAND_CONTENT: UNDEFINED
BITS_PER_PIXEL: 8
SAMPLES_AND_LINES: 5520 7680
HORIZONTAL_DATUM: NAD83
HORIZONTAL_COORDINATE_SYSTEM: UTM
COORDINATE_ZONE: 12
HORIZONTAL_UNITS: METERS
HORIZONTAL_RESOLUTION: 1.00000
SECONDARY_HORIZONTAL_DATUM: NAD27
XY_ORIGIN: 373290.00000 5304090.00000
SECONDARY_XY_ORIGIN: 373351.68700 5303875.34600
NATION: US
STATE: MT
NW_QUAD_CORNER_XY: 373818.10900 5303785.51800
NE_QUAD_CORNER_XY: 378491.38500 5303685.29600
SE_QUAD_CORNERY_XY: 378345.30400 5296739.14400
SW_QUAD_CORNER_XY: 373666.40600 5296839.38800
SECONDARY_NW_QUAD_XY: 373814.14800 5303566.71200
SECONDARY_NE_QUAD_XY: 378487.57100 5303466.48600
SECONDARY_SE_QUAD_XY: 378341.49000 5296520.35200
SECONDARY_SW_QUAD_XY: 373662.44500 5296620.59900
RMSE_XY: 2.05000
IMAGE_SOURCE: BLACK AND WHITE FILM
SOURCE_IMAGE_ID: NAPP 8386 92
SOURCE_IMAGE_DATE: 1995 08 05
SOURCE_IMAGE_ID: NAPP 8386 109
SOURCE_IMAGE_DATE: 1995 08 05
SOURCE_DEM_DATE: 1995 00 00
AGENCY: WESTERN MAPPING CENTER (WMC)
PRODUCER: ANALYTICAL SURVEYS INC.
PRODUCTION_SYSTEM: ORBIT OR_RECTIFY V.5.2
COMPRESSION: UNDEFINED
STANDARD_VERSION: 1996 12
METADATA_DATE: 1999 01 07
DATA_FILE_SIZE: 42399120
BYTE_COUNT: 5520
