FILENAME: O4711211.NWS.950122.tif
QUADRANGLE_NAME: EAR MOUNTAIN
QUADRANT: NW
WEST_LONGITUDE: -112 45 0.00000
EAST_LONGITUDE: -112 41 15.00000
NORTH_LATITUDE: 47 52 30.00000
SOUTH_LATITUDE: 47 48 45.00000
PRODUCTION_DATE: 1999 01 05
RASTER_ORDER: LEFT_RIGHT/TOP_BOTTOM
BAND_ORGANIZATION: SINGLE FILE
BAND_CONTENT: BLACK&WHITE
BAND_CONTENT: UNDEFINED
BAND_CONTENT: UNDEFINED
BITS_PER_PIXEL: 8
SAMPLES_AND_LINES: 5520 7680
HORIZONTAL_DATUM: NAD83
HORIZONTAL_COORDINATE_SYSTEM: UTM
COORDINATE_ZONE: 12
HORIZONTAL_UNITS: METERS
HORIZONTAL_RESOLUTION: 1.00000
SECONDARY_HORIZONTAL_DATUM: NAD27
XY_ORIGIN: 368610.00000 5304210.00000
SECONDARY_XY_ORIGIN: 368671.76300 5303995.33900
NATION: US
STATE: MT
NW_QUAD_CORNER_XY: 369144.84700 5303889.52400
NE_QUAD_CORNER_XY: 373818.10900 5303785.51800
SE_QUAD_CORNERY_XY: 373666.40600 5296839.38800
SW_QUAD_CORNER_XY: 368987.52200 5296943.41600
SECONDARY_NW_QUAD_XY: 369140.73900 5303670.72200
SECONDARY_NE_QUAD_XY: 373814.14800 5303566.71200
SECONDARY_SE_QUAD_XY: 373662.44500 5296620.59900
SECONDARY_SW_QUAD_XY: 368983.41500 5296724.63000
RMSE_XY: 3.49000
IMAGE_SOURCE: BLACK AND WHITE FILM
SOURCE_IMAGE_ID: NAPP 8386 109
SOURCE_IMAGE_DATE: 1995 08 05
SOURCE_IMAGE_ID: NAPP 8386 107
SOURCE_IMAGE_DATE: 1995 08 05
SOURCE_IMAGE_ID: NAPP 8386 108
SOURCE_IMAGE_DATE: 1995 08 05
SOURCE_DEM_DATE: 1995 00 00
AGENCY: WESTERN MAPPING CENTER (WMC)
PRODUCER: ANALYTICAL SURVEYS INC.
PRODUCTION_SYSTEM: ORBIT OR_RECTIFY V.5.2
COMPRESSION: UNDEFINED
STANDARD_VERSION: 1996 12
METADATA_DATE: 1999 01 07
DATA_FILE_SIZE: 42399120
BYTE_COUNT: 5520
