FILENAME: O4711211.SWS.950124.tif
QUADRANGLE_NAME: EAR MOUNTAIN
QUADRANT: SW
WEST_LONGITUDE: -112 45 0.00000
EAST_LONGITUDE: -112 41 15.00000
NORTH_LATITUDE: 47 48 45.00000
SOUTH_LATITUDE: 47 45 0.00000
PRODUCTION_DATE: 1999 01 05
RASTER_ORDER: LEFT_RIGHT/TOP_BOTTOM
BAND_ORGANIZATION: SINGLE FILE
BAND_CONTENT: BLACK&WHITE
BAND_CONTENT: UNDEFINED
BAND_CONTENT: UNDEFINED
BITS_PER_PIXEL: 8
SAMPLES_AND_LINES: 5520 7680
HORIZONTAL_DATUM: NAD83
HORIZONTAL_COORDINATE_SYSTEM: UTM
COORDINATE_ZONE: 12
HORIZONTAL_UNITS: METERS
HORIZONTAL_RESOLUTION: 1.00000
SECONDARY_HORIZONTAL_DATUM: NAD27
XY_ORIGIN: 368460.00000 5297250.00000
SECONDARY_XY_ORIGIN: 368521.73100 5297035.54700
NATION: US
STATE: MT
NW_QUAD_CORNER_XY: 368987.52200 5296943.41600
NE_QUAD_CORNER_XY: 373666.40600 5296839.38800
SE_QUAD_CORNERY_XY: 373514.85400 5289893.32700
SW_QUAD_CORNER_XY: 368830.35400 5289997.37700
SECONDARY_NW_QUAD_XY: 368983.41500 5296724.63000
SECONDARY_NE_QUAD_XY: 373662.44500 5296620.59900
SECONDARY_SE_QUAD_XY: 373510.89400 5289674.55600
SECONDARY_SW_QUAD_XY: 368826.24800 5289778.60900
RMSE_XY: 3.83000
IMAGE_SOURCE: BLACK AND WHITE FILM
SOURCE_IMAGE_ID: NAPP 8386 111
SOURCE_IMAGE_DATE: 1995 08 05
SOURCE_IMAGE_ID: NAPP 8386 109
SOURCE_IMAGE_DATE: 1995 08 05
SOURCE_IMAGE_ID: NAPP 8386 91
SOURCE_IMAGE_DATE: 1995 08 05
SOURCE_IMAGE_ID: NAPP 8386 90
SOURCE_IMAGE_DATE: 1995 08 05
SOURCE_DEM_DATE: 1995 00 00
AGENCY: WESTERN MAPPING CENTER (WMC)
PRODUCER: ANALYTICAL SURVEYS INC.
PRODUCTION_SYSTEM: ORBIT OR_RECTIFY V.5.2
COMPRESSION: UNDEFINED
STANDARD_VERSION: 1996 12
METADATA_DATE: 1999 01 07
DATA_FILE_SIZE: 42399120
BYTE_COUNT: 5520
