FILENAME: O4711210.NES.958252.tif
QUADRANGLE_NAME: OUR LAKE
QUADRANT: NE
WEST_LONGITUDE: -112 48 45.00000
EAST_LONGITUDE: -112 45 0.00000
NORTH_LATITUDE: 47 52 30.00000
SOUTH_LATITUDE: 47 48 45.00000
PRODUCTION_DATE: 1998 12 10
RASTER_ORDER: LEFT_RIGHT/TOP_BOTTOM
BAND_ORGANIZATION: SINGLE FILE
BAND_CONTENT: BLACK&WHITE
BAND_CONTENT: UNDEFINED
BAND_CONTENT: UNDEFINED
BITS_PER_PIXEL: 8
SAMPLES_AND_LINES: 5520 7680
HORIZONTAL_DATUM: NAD83
HORIZONTAL_COORDINATE_SYSTEM: UTM
COORDINATE_ZONE: 12
HORIZONTAL_UNITS: METERS
HORIZONTAL_RESOLUTION: 1.00000
SECONDARY_HORIZONTAL_DATUM: NAD27
XY_ORIGIN: 363930.00000 5304300.00000
SECONDARY_XY_ORIGIN: 363991.87000 5304085.36700
NATION: US
STATE: MT
NW_QUAD_CORNER_XY: 364471.60000 5303997.31500
NE_QUAD_CORNER_XY: 369144.84700 5303889.52400
SE_QUAD_CORNERY_XY: 368987.52200 5296943.41600
SW_QUAD_CORNER_XY: 364308.65400 5297051.23000
SECONDARY_NW_QUAD_XY: 364467.34600 5303778.51500
SECONDARY_NE_QUAD_XY: 369140.73900 5303670.72200
SECONDARY_SE_QUAD_XY: 368983.41500 5296724.63000
SECONDARY_SW_QUAD_XY: 364304.40000 5296832.44700
RMSE_XY: 1.75000
IMAGE_SOURCE: BLACK AND WHITE FILM
SOURCE_IMAGE_ID: NAPP 8386 164
SOURCE_IMAGE_DATE: 1995 08 05
SOURCE_IMAGE_ID: NAPP 9491 50
SOURCE_IMAGE_DATE: 1995 09 01
SOURCE_IMAGE_ID: NAPP 8386 162
SOURCE_IMAGE_DATE: 1995 08 05
SOURCE_IMAGE_ID: NAPP 8386 166
SOURCE_IMAGE_DATE: 1995 08 05
SOURCE_DEM_DATE: 1995 00 00
AGENCY: WESTERN MAPPING CENTER (WMC)
PRODUCER: ANALYTICAL SURVEYS INC.
PRODUCTION_SYSTEM: ORBIT OR_RECTIFY V.5.2
COMPRESSION: UNDEFINED
STANDARD_VERSION: 1996 12
METADATA_DATE: 1998 12 19
DATA_FILE_SIZE: 42399120
BYTE_COUNT: 5520
