FILENAME: O4711210.NWS.958253.tif
QUADRANGLE_NAME: OUR LAKE
QUADRANT: NW
WEST_LONGITUDE: -112 52 30.00000
EAST_LONGITUDE: -112 48 45.00000
NORTH_LATITUDE: 47 52 30.00000
SOUTH_LATITUDE: 47 48 45.00000
PRODUCTION_DATE: 1998 12 10
RASTER_ORDER: LEFT_RIGHT/TOP_BOTTOM
BAND_ORGANIZATION: SINGLE FILE
BAND_CONTENT: BLACK&WHITE
BAND_CONTENT: UNDEFINED
BAND_CONTENT: UNDEFINED
BITS_PER_PIXEL: 8
SAMPLES_AND_LINES: 5550 7680
HORIZONTAL_DATUM: NAD83
HORIZONTAL_COORDINATE_SYSTEM: UTM
COORDINATE_ZONE: 12
HORIZONTAL_UNITS: METERS
HORIZONTAL_RESOLUTION: 1.00000
SECONDARY_HORIZONTAL_DATUM: NAD27
XY_ORIGIN: 359250.00000 5304420.00000
SECONDARY_XY_ORIGIN: 359311.97400 5304205.39600
NATION: US
STATE: MT
NW_QUAD_CORNER_XY: 359798.37000 5304108.88900
NE_QUAD_CORNER_XY: 364471.60000 5303997.31500
SE_QUAD_CORNERY_XY: 364308.65400 5297051.23000
SW_QUAD_CORNER_XY: 359629.80100 5297162.82800
SECONDARY_NW_QUAD_XY: 359793.96900 5303890.09400
SECONDARY_NE_QUAD_XY: 364467.34600 5303778.51500
SECONDARY_SE_QUAD_XY: 364304.40000 5296832.44700
SECONDARY_SW_QUAD_XY: 359625.40000 5296944.05000
RMSE_XY: 1.94000
IMAGE_SOURCE: BLACK AND WHITE FILM
SOURCE_IMAGE_ID: NAPP 9491 50
SOURCE_IMAGE_DATE: 1995 09 01
SOURCE_IMAGE_ID: NAPP 8386 164
SOURCE_IMAGE_DATE: 1995 08 05
SOURCE_DEM_DATE: 1995 00 00
AGENCY: WESTERN MAPPING CENTER (WMC)
PRODUCER: ANALYTICAL SURVEYS INC.
PRODUCTION_SYSTEM: ORBIT OR_RECTIFY V.5.2
COMPRESSION: UNDEFINED
STANDARD_VERSION: 1996 12
METADATA_DATE: 1998 12 19
DATA_FILE_SIZE: 42629550
BYTE_COUNT: 5550
