FILENAME: O4711210.SES.958254.tif
QUADRANGLE_NAME: OUR LAKE
QUADRANT: SE
WEST_LONGITUDE: -112 48 45.00000
EAST_LONGITUDE: -112 45 0.00000
NORTH_LATITUDE: 47 48 45.00000
SOUTH_LATITUDE: 47 45 0.00000
PRODUCTION_DATE: 1998 12 10
RASTER_ORDER: LEFT_RIGHT/TOP_BOTTOM
BAND_ORGANIZATION: SINGLE FILE
BAND_CONTENT: BLACK&WHITE
BAND_CONTENT: UNDEFINED
BAND_CONTENT: UNDEFINED
BITS_PER_PIXEL: 8
SAMPLES_AND_LINES: 5550 7680
HORIZONTAL_DATUM: NAD83
HORIZONTAL_COORDINATE_SYSTEM: UTM
COORDINATE_ZONE: 12
HORIZONTAL_UNITS: METERS
HORIZONTAL_RESOLUTION: 1.00000
SECONDARY_HORIZONTAL_DATUM: NAD27
XY_ORIGIN: 363750.00000 5297370.00000
SECONDARY_XY_ORIGIN: 363811.84200 5297155.57200
NATION: US
STATE: MT
NW_QUAD_CORNER_XY: 364308.65400 5297051.23000
NE_QUAD_CORNER_XY: 368987.52200 5296943.41600
SE_QUAD_CORNERY_XY: 368830.35400 5289997.37700
SW_QUAD_CORNER_XY: 364145.87000 5290105.21300
SECONDARY_NW_QUAD_XY: 364304.40000 5296832.44700
SECONDARY_NE_QUAD_XY: 368983.41500 5296724.63000
SECONDARY_SE_QUAD_XY: 368826.24800 5289778.60900
SECONDARY_SW_QUAD_XY: 364141.61600 5289886.44900
RMSE_XY: 2.10000
IMAGE_SOURCE: BLACK AND WHITE FILM
SOURCE_IMAGE_ID: NAPP 8386 162
SOURCE_IMAGE_DATE: 1995 08 05
SOURCE_IMAGE_ID: NAPP 8386 163
SOURCE_IMAGE_DATE: 1995 08 05
SOURCE_IMAGE_ID: NAPP 8386 164
SOURCE_IMAGE_DATE: 1995 08 05
SOURCE_DEM_DATE: 1995 00 00
AGENCY: WESTERN MAPPING CENTER (WMC)
PRODUCER: ANALYTICAL SURVEYS INC.
PRODUCTION_SYSTEM: ORBIT OR_RECTIFY V.5.2
COMPRESSION: UNDEFINED
STANDARD_VERSION: 1996 12
METADATA_DATE: 1998 12 19
DATA_FILE_SIZE: 42629550
BYTE_COUNT: 5550
