FILENAME: O4711208.SES.950386.tif
QUADRANGLE_NAME: EYRAUD LAKES
QUADRANT: SE
WEST_LONGITUDE: -112 3 45.00000
EAST_LONGITUDE: -112 0 0.00000
NORTH_LATITUDE: 47 56 15.00000
SOUTH_LATITUDE: 47 52 30.00000
PRODUCTION_DATE: 1998 12 17
RASTER_ORDER: LEFT_RIGHT/TOP_BOTTOM
BAND_ORGANIZATION: SINGLE FILE
BAND_CONTENT: BLACK&WHITE
BAND_CONTENT: UNDEFINED
BAND_CONTENT: UNDEFINED
BITS_PER_PIXEL: 8
SAMPLES_AND_LINES: 5460 7650
HORIZONTAL_DATUM: NAD83
HORIZONTAL_COORDINATE_SYSTEM: UTM
COORDINATE_ZONE: 12
HORIZONTAL_UNITS: METERS
HORIZONTAL_RESOLUTION: 1.00000
SECONDARY_HORIZONTAL_DATUM: NAD27
XY_ORIGIN: 420180.00000 5310210.00000
SECONDARY_XY_ORIGIN: 420241.06200 5309994.97400
NATION: US
STATE: MT
NW_QUAD_CORNER_XY: 420647.05400 5309899.92000
NE_QUAD_CORNER_XY: 425314.82500 5309837.54000
SE_QUAD_CORNERY_XY: 425224.85100 5302891.14400
SW_QUAD_CORNER_XY: 420551.45600 5302953.53800
SECONDARY_NW_QUAD_XY: 420644.56000 5309681.07100
SECONDARY_NE_QUAD_XY: 425312.47700 5309618.69000
SECONDARY_SE_QUAD_XY: 425222.50400 5302672.31000
SECONDARY_SW_QUAD_XY: 420548.96200 5302734.70600
RMSE_XY: 0.73000
IMAGE_SOURCE: BLACK AND WHITE FILM
SOURCE_IMAGE_ID: NAPP 8387 4
SOURCE_IMAGE_DATE: 1995 08 09
SOURCE_DEM_DATE: 1987 00 00
AGENCY: WESTERN MAPPING CENTER (WMC)
PRODUCER: ANALYTICAL SURVEYS INC.
PRODUCTION_SYSTEM: ORBIT OR_RECTIFY V.5.2
COMPRESSION: UNDEFINED
STANDARD_VERSION: 1996 12
METADATA_DATE: 1998 12 20
DATA_FILE_SIZE: 41774460
BYTE_COUNT: 5460
