FILENAME: O4711208.SWS.950387.tif
QUADRANGLE_NAME: EYRAUD LAKES
QUADRANT: SW
WEST_LONGITUDE: -112 7 30.00000
EAST_LONGITUDE: -112 3 45.00000
NORTH_LATITUDE: 47 56 15.00000
SOUTH_LATITUDE: 47 52 30.00000
PRODUCTION_DATE: 1998 12 17
RASTER_ORDER: LEFT_RIGHT/TOP_BOTTOM
BAND_ORGANIZATION: SINGLE FILE
BAND_CONTENT: BLACK&WHITE
BAND_CONTENT: UNDEFINED
BAND_CONTENT: UNDEFINED
BITS_PER_PIXEL: 8
SAMPLES_AND_LINES: 5460 7650
HORIZONTAL_DATUM: NAD83
HORIZONTAL_COORDINATE_SYSTEM: UTM
COORDINATE_ZONE: 12
HORIZONTAL_UNITS: METERS
HORIZONTAL_RESOLUTION: 1.00000
SECONDARY_HORIZONTAL_DATUM: NAD27
XY_ORIGIN: 415500.00000 5310270.00000
SECONDARY_XY_ORIGIN: 415561.13900 5310055.04300
NATION: US
STATE: MT
NW_QUAD_CORNER_XY: 415979.29200 5309966.08100
NE_QUAD_CORNER_XY: 420647.05400 5309899.92000
SE_QUAD_CORNERY_XY: 420551.45600 5302953.53800
SW_QUAD_CORNER_XY: 415878.07000 5303019.71300
SECONDARY_NW_QUAD_XY: 415976.65200 5309747.23500
SECONDARY_NE_QUAD_XY: 420644.56000 5309681.07100
SECONDARY_SE_QUAD_XY: 420548.96200 5302734.70600
SECONDARY_SW_QUAD_XY: 415875.43000 5302800.88300
RMSE_XY: 0.86000
IMAGE_SOURCE: BLACK AND WHITE FILM
SOURCE_IMAGE_ID: NAPP 9487 17
SOURCE_IMAGE_DATE: 1995 08 27
SOURCE_DEM_DATE: 1987 00 00
AGENCY: WESTERN MAPPING CENTER (WMC)
PRODUCER: ANALYTICAL SURVEYS INC.
PRODUCTION_SYSTEM: ORBIT OR_RECTIFY V.5.2
COMPRESSION: UNDEFINED
STANDARD_VERSION: 1996 12
METADATA_DATE: 1998 12 20
DATA_FILE_SIZE: 41774460
BYTE_COUNT: 5460
