FILENAME: O4711207.NWS.950365.tif
QUADRANGLE_NAME: AGAWAM SOUTH
QUADRANT: NW
WEST_LONGITUDE: -112 15 0.00000
EAST_LONGITUDE: -112 11 15.00000
NORTH_LATITUDE: 48 0 0.00000
SOUTH_LATITUDE: 47 56 15.00000
PRODUCTION_DATE: 1998 12 16
RASTER_ORDER: LEFT_RIGHT/TOP_BOTTOM
BAND_ORGANIZATION: SINGLE FILE
BAND_CONTENT: BLACK&WHITE
BAND_CONTENT: UNDEFINED
BAND_CONTENT: UNDEFINED
BITS_PER_PIXEL: 8
SAMPLES_AND_LINES: 5460 7650
HORIZONTAL_DATUM: NAD83
HORIZONTAL_COORDINATE_SYSTEM: UTM
COORDINATE_ZONE: 12
HORIZONTAL_UNITS: METERS
HORIZONTAL_RESOLUTION: 1.00000
SECONDARY_HORIZONTAL_DATUM: NAD27
XY_ORIGIN: 406260.00000 5317380.00000
SECONDARY_XY_ORIGIN: 406321.31900 5317165.05800
NATION: US
STATE: MT
NW_QUAD_CORNER_XY: 406756.38400 5317056.15600
NE_QUAD_CORNER_XY: 411418.49400 5316982.44900
SE_QUAD_CORNERY_XY: 411311.54100 5310036.02400
SW_QUAD_CORNER_XY: 406643.80000 5310109.74800
SECONDARY_NW_QUAD_XY: 406753.45000 5316837.30000
SECONDARY_NE_QUAD_XY: 411415.70700 5316763.58900
SECONDARY_SE_QUAD_XY: 411308.75400 5309817.18000
SECONDARY_SW_QUAD_XY: 406640.86600 5309890.90600
RMSE_XY: 0.69000
IMAGE_SOURCE: BLACK AND WHITE FILM
SOURCE_IMAGE_ID: NAPP 8380 124
SOURCE_IMAGE_DATE: 1995 07 01
SOURCE_DEM_DATE: 1982 00 00
AGENCY: WESTERN MAPPING CENTER (WMC)
PRODUCER: ANALYTICAL SURVEYS INC.
PRODUCTION_SYSTEM: ORBIT OR_RECTIFY V.5.2
COMPRESSION: UNDEFINED
STANDARD_VERSION: 1996 12
METADATA_DATE: 1998 12 17
DATA_FILE_SIZE: 41774460
BYTE_COUNT: 5460
