FILENAME: O4711205.NWS.950229.tif
QUADRANGLE_NAME: BYNUM RESERVOIR
QUADRANT: NW
WEST_LONGITUDE: -112 30 0.00000
EAST_LONGITUDE: -112 26 15.00000
NORTH_LATITUDE: 48 0 0.00000
SOUTH_LATITUDE: 47 56 15.00000
PRODUCTION_DATE: 1998 12 16
RASTER_ORDER: LEFT_RIGHT/TOP_BOTTOM
BAND_ORGANIZATION: SINGLE FILE
BAND_CONTENT: BLACK&WHITE
BAND_CONTENT: UNDEFINED
BAND_CONTENT: UNDEFINED
BITS_PER_PIXEL: 8
SAMPLES_AND_LINES: 5490 7680
HORIZONTAL_DATUM: NAD83
HORIZONTAL_COORDINATE_SYSTEM: UTM
COORDINATE_ZONE: 12
HORIZONTAL_UNITS: METERS
HORIZONTAL_RESOLUTION: 1.00000
SECONDARY_HORIZONTAL_DATUM: NAD27
XY_ORIGIN: 387600.00000 5317710.00000
SECONDARY_XY_ORIGIN: 387661.51400 5317495.09500
NATION: US
STATE: MT
NW_QUAD_CORNER_XY: 388108.06500 5317388.79900
NE_QUAD_CORNER_XY: 392770.12600 5317299.96600
SE_QUAD_CORNERY_XY: 392640.64800 5310353.61200
SW_QUAD_CORNER_XY: 387972.95600 5310442.46500
SECONDARY_NW_QUAD_XY: 388104.54400 5317169.95200
SECONDARY_NE_QUAD_XY: 392766.75100 5317081.11700
SECONDARY_SE_QUAD_XY: 392637.27400 5310134.77800
SECONDARY_SW_QUAD_XY: 387969.43500 5310223.63400
RMSE_XY: 1.78000
IMAGE_SOURCE: BLACK AND WHITE FILM
SOURCE_IMAGE_ID: NAPP 8384 102
SOURCE_IMAGE_DATE: 1995 08 04
SOURCE_DEM_DATE: 1987 00 00
AGENCY: WESTERN MAPPING CENTER (WMC)
PRODUCER: ANALYTICAL SURVEYS INC.
PRODUCTION_SYSTEM: ORBIT OR_RECTIFY V.5.2
COMPRESSION: UNDEFINED
STANDARD_VERSION: 1996 12
METADATA_DATE: 1998 12 17
DATA_FILE_SIZE: 42168690
BYTE_COUNT: 5490
