FILENAME: O4711204.NES.950129.tif
QUADRANGLE_NAME: TWIN LAKES
QUADRANT: NE
WEST_LONGITUDE: -112 33 45.00000
EAST_LONGITUDE: -112 30 0.00000
NORTH_LATITUDE: 48 0 0.00000
SOUTH_LATITUDE: 47 56 15.00000
PRODUCTION_DATE: 1998 12 15
RASTER_ORDER: LEFT_RIGHT/TOP_BOTTOM
BAND_ORGANIZATION: SINGLE FILE
BAND_CONTENT: BLACK&WHITE
BAND_CONTENT: UNDEFINED
BAND_CONTENT: UNDEFINED
BITS_PER_PIXEL: 8
SAMPLES_AND_LINES: 5490 7680
HORIZONTAL_DATUM: NAD83
HORIZONTAL_COORDINATE_SYSTEM: UTM
COORDINATE_ZONE: 12
HORIZONTAL_UNITS: METERS
HORIZONTAL_RESOLUTION: 1.00000
SECONDARY_HORIZONTAL_DATUM: NAD27
XY_ORIGIN: 382920.00000 5317800.00000
SECONDARY_XY_ORIGIN: 382981.59400 5317585.05400
NATION: US
STATE: MT
NW_QUAD_CORNER_XY: 383446.01800 5317481.41300
NE_QUAD_CORNER_XY: 388108.06500 5317388.79900
SE_QUAD_CORNERY_XY: 387972.95600 5310442.46500
SW_QUAD_CORNER_XY: 383305.27700 5310535.10000
SECONDARY_NW_QUAD_XY: 383442.35000 5317262.56900
SECONDARY_NE_QUAD_XY: 388104.54400 5317169.95200
SECONDARY_SE_QUAD_XY: 387969.43500 5310223.63400
SECONDARY_SW_QUAD_XY: 383301.61000 5310316.27200
RMSE_XY: 2.47000
IMAGE_SOURCE: BLACK AND WHITE FILM
SOURCE_IMAGE_ID: NAPP 8384 169
SOURCE_IMAGE_DATE: 1995 08 05
SOURCE_IMAGE_ID: NAPP 8384 167
SOURCE_IMAGE_DATE: 1995 08 05
SOURCE_DEM_DATE: 1990 00 00
AGENCY: WESTERN MAPPING CENTER (WMC)
PRODUCER: ANALYTICAL SURVEYS INC.
PRODUCTION_SYSTEM: ORBIT OR_RECTIFY V.5.2
COMPRESSION: UNDEFINED
STANDARD_VERSION: 1996 12
METADATA_DATE: 1998 12 17
DATA_FILE_SIZE: 42168690
BYTE_COUNT: 5490
