FILENAME: O4711204.SES.950131.tif
QUADRANGLE_NAME: TWIN LAKES
QUADRANT: SE
WEST_LONGITUDE: -112 33 45.00000
EAST_LONGITUDE: -112 30 0.00000
NORTH_LATITUDE: 47 56 15.00000
SOUTH_LATITUDE: 47 52 30.00000
PRODUCTION_DATE: 1998 12 15
RASTER_ORDER: LEFT_RIGHT/TOP_BOTTOM
BAND_ORGANIZATION: SINGLE FILE
BAND_CONTENT: BLACK&WHITE
BAND_CONTENT: UNDEFINED
BAND_CONTENT: UNDEFINED
BITS_PER_PIXEL: 8
SAMPLES_AND_LINES: 5520 7650
HORIZONTAL_DATUM: NAD83
HORIZONTAL_COORDINATE_SYSTEM: UTM
COORDINATE_ZONE: 12
HORIZONTAL_UNITS: METERS
HORIZONTAL_RESOLUTION: 1.00000
SECONDARY_HORIZONTAL_DATUM: NAD27
XY_ORIGIN: 382770.00000 5310840.00000
SECONDARY_XY_ORIGIN: 382831.56600 5310625.20600
NATION: US
STATE: MT
NW_QUAD_CORNER_XY: 383305.27700 5310535.10000
NE_QUAD_CORNER_XY: 387972.95600 5310442.46500
SE_QUAD_CORNERY_XY: 387837.98200 5303496.20200
SW_QUAD_CORNER_XY: 383164.67700 5303588.85700
SECONDARY_NW_QUAD_XY: 383301.61000 5310316.27200
SECONDARY_NE_QUAD_XY: 387969.43500 5310223.63400
SECONDARY_SE_QUAD_XY: 387834.46100 5303277.38700
SECONDARY_SW_QUAD_XY: 383161.00900 5303370.04500
RMSE_XY: 3.25000
IMAGE_SOURCE: BLACK AND WHITE FILM
SOURCE_IMAGE_ID: NAPP 8384 167
SOURCE_IMAGE_DATE: 1995 08 05
SOURCE_IMAGE_ID: NAPP 8384 165
SOURCE_IMAGE_DATE: 1995 08 05
SOURCE_DEM_DATE: 1990 00 00
AGENCY: WESTERN MAPPING CENTER (WMC)
PRODUCER: ANALYTICAL SURVEYS INC.
PRODUCTION_SYSTEM: ORBIT OR_RECTIFY V.5.2
COMPRESSION: UNDEFINED
STANDARD_VERSION: 1996 12
METADATA_DATE: 1998 12 17
DATA_FILE_SIZE: 42233520
BYTE_COUNT: 5520
