FILENAME: O4711203.NWS.950118.tif
QUADRANGLE_NAME: CAVE MOUNTAIN
QUADRANT: NW
WEST_LONGITUDE: -112 45 0.00000
EAST_LONGITUDE: -112 41 15.00000
NORTH_LATITUDE: 48 0 0.00000
SOUTH_LATITUDE: 47 56 15.00000
PRODUCTION_DATE: 1999 01 05
RASTER_ORDER: LEFT_RIGHT/TOP_BOTTOM
BAND_ORGANIZATION: SINGLE FILE
BAND_CONTENT: BLACK&WHITE
BAND_CONTENT: UNDEFINED
BAND_CONTENT: UNDEFINED
BITS_PER_PIXEL: 8
SAMPLES_AND_LINES: 5520 7680
HORIZONTAL_DATUM: NAD83
HORIZONTAL_COORDINATE_SYSTEM: UTM
COORDINATE_ZONE: 12
HORIZONTAL_UNITS: METERS
HORIZONTAL_RESOLUTION: 1.00000
SECONDARY_HORIZONTAL_DATUM: NAD27
XY_ORIGIN: 368910.00000 5318100.00000
SECONDARY_XY_ORIGIN: 368971.82600 5317884.92700
NATION: US
STATE: MT
NW_QUAD_CORNER_XY: 369459.96600 5317781.94700
NE_QUAD_CORNER_XY: 374121.96800 5317677.98700
SE_QUAD_CORNERY_XY: 373969.96300 5310731.71800
SW_QUAD_CORNER_XY: 369302.32800 5310835.70100
SECONDARY_NW_QUAD_XY: 369455.85800 5317563.11300
SECONDARY_NE_QUAD_XY: 374118.00700 5317459.15000
SECONDARY_SE_QUAD_XY: 373966.00200 5310512.89600
SECONDARY_SW_QUAD_XY: 369298.22000 5310616.88200
RMSE_XY: 1.93000
IMAGE_SOURCE: BLACK AND WHITE FILM
SOURCE_IMAGE_ID: NAPP 8386 105
SOURCE_IMAGE_DATE: 1995 08 05
SOURCE_IMAGE_ID: NAPP 8386 96
SOURCE_IMAGE_DATE: 1995 08 05
SOURCE_IMAGE_ID: NAPP 8386 107
SOURCE_IMAGE_DATE: 1995 08 05
SOURCE_IMAGE_ID: NAPP 8386 104
SOURCE_IMAGE_DATE: 1995 08 05
SOURCE_DEM_DATE: 1997 00 00
AGENCY: WESTERN MAPPING CENTER (WMC)
PRODUCER: ANALYTICAL SURVEYS INC.
PRODUCTION_SYSTEM: ORBIT OR_RECTIFY V.5.2
COMPRESSION: UNDEFINED
STANDARD_VERSION: 1996 12
METADATA_DATE: 1999 01 07
DATA_FILE_SIZE: 42399120
BYTE_COUNT: 5520
