FILENAME: O4711203.SES.950119.tif
QUADRANGLE_NAME: CAVE MOUNTAIN
QUADRANT: SE
WEST_LONGITUDE: -112 41 15.00000
EAST_LONGITUDE: -112 37 30.00000
NORTH_LATITUDE: 47 56 15.00000
SOUTH_LATITUDE: 47 52 30.00000
PRODUCTION_DATE: 1999 01 05
RASTER_ORDER: LEFT_RIGHT/TOP_BOTTOM
BAND_ORGANIZATION: SINGLE FILE
BAND_CONTENT: BLACK&WHITE
BAND_CONTENT: UNDEFINED
BAND_CONTENT: UNDEFINED
BITS_PER_PIXEL: 8
SAMPLES_AND_LINES: 5520 7680
HORIZONTAL_DATUM: NAD83
HORIZONTAL_COORDINATE_SYSTEM: UTM
COORDINATE_ZONE: 12
HORIZONTAL_UNITS: METERS
HORIZONTAL_RESOLUTION: 1.00000
SECONDARY_HORIZONTAL_DATUM: NAD27
XY_ORIGIN: 373440.00000 5311050.00000
SECONDARY_XY_ORIGIN: 373501.71800 5310835.15700
NATION: US
STATE: MT
NW_QUAD_CORNER_XY: 373969.96300 5310731.71800
NE_QUAD_CORNER_XY: 378637.61300 5310631.51700
SE_QUAD_CORNERY_XY: 378491.38500 5303685.29600
SW_QUAD_CORNER_XY: 373818.10900 5303785.51800
SECONDARY_NW_QUAD_XY: 373966.00200 5310512.89600
SECONDARY_NE_QUAD_XY: 378633.79800 5310412.69200
SECONDARY_SE_QUAD_XY: 378487.57100 5303466.48600
SECONDARY_SW_QUAD_XY: 373814.14800 5303566.71200
RMSE_XY: 2.02000
IMAGE_SOURCE: BLACK AND WHITE FILM
SOURCE_IMAGE_ID: NAPP 8386 94
SOURCE_IMAGE_DATE: 1995 08 05
SOURCE_DEM_DATE: 1997 00 00
AGENCY: WESTERN MAPPING CENTER (WMC)
PRODUCER: ANALYTICAL SURVEYS INC.
PRODUCTION_SYSTEM: ORBIT OR_RECTIFY V.5.2
COMPRESSION: UNDEFINED
STANDARD_VERSION: 1996 12
METADATA_DATE: 1999 01 07
DATA_FILE_SIZE: 42399120
BYTE_COUNT: 5520
