FILENAME: O4711202.NES.958248.tif
QUADRANGLE_NAME: MOUNT WRIGHT
QUADRANT: NE
WEST_LONGITUDE: -112 48 45.00000
EAST_LONGITUDE: -112 45 0.00000
NORTH_LATITUDE: 48 0 0.00000
SOUTH_LATITUDE: 47 56 15.00000
PRODUCTION_DATE: 1998 12 10
RASTER_ORDER: LEFT_RIGHT/TOP_BOTTOM
BAND_ORGANIZATION: SINGLE FILE
BAND_CONTENT: BLACK&WHITE
BAND_CONTENT: UNDEFINED
BAND_CONTENT: UNDEFINED
BITS_PER_PIXEL: 8
SAMPLES_AND_LINES: 5520 7680
HORIZONTAL_DATUM: NAD83
HORIZONTAL_COORDINATE_SYSTEM: UTM
COORDINATE_ZONE: 12
HORIZONTAL_UNITS: METERS
HORIZONTAL_RESOLUTION: 1.00000
SECONDARY_HORIZONTAL_DATUM: NAD27
XY_ORIGIN: 364260.00000 5318190.00000
SECONDARY_XY_ORIGIN: 364321.92700 5317974.95900
NATION: US
STATE: MT
NW_QUAD_CORNER_XY: 364797.98000 5317889.69000
NE_QUAD_CORNER_XY: 369459.96600 5317781.94700
SE_QUAD_CORNERY_XY: 369302.32800 5310835.70100
SW_QUAD_CORNER_XY: 364634.70900 5310943.46800
SECONDARY_NW_QUAD_XY: 364793.72500 5317670.85900
SECONDARY_NE_QUAD_XY: 369455.85800 5317563.11300
SECONDARY_SE_QUAD_XY: 369298.22000 5310616.88200
SECONDARY_SW_QUAD_XY: 364630.45500 5310724.65300
RMSE_XY: 2.01000
IMAGE_SOURCE: BLACK AND WHITE FILM
SOURCE_IMAGE_ID: NAPP 8386 168
SOURCE_IMAGE_DATE: 1995 08 05
SOURCE_IMAGE_ID: NAPP 8386 166
SOURCE_IMAGE_DATE: 1995 08 05
SOURCE_IMAGE_ID: NAPP 8386 170
SOURCE_IMAGE_DATE: 1995 08 05
SOURCE_DEM_DATE: 1995 00 00
AGENCY: WESTERN MAPPING CENTER (WMC)
PRODUCER: ANALYTICAL SURVEYS INC.
PRODUCTION_SYSTEM: ORBIT OR_RECTIFY V.5.2
COMPRESSION: UNDEFINED
STANDARD_VERSION: 1996 12
METADATA_DATE: 1998 12 21
DATA_FILE_SIZE: 42399120
BYTE_COUNT: 5520
