FILENAME: O4711202.SES.958250.tif
QUADRANGLE_NAME: MOUNT WRIGHT
QUADRANT: SE
WEST_LONGITUDE: -112 48 45.00000
EAST_LONGITUDE: -112 45 0.00000
NORTH_LATITUDE: 47 56 15.00000
SOUTH_LATITUDE: 47 52 30.00000
PRODUCTION_DATE: 1998 12 10
RASTER_ORDER: LEFT_RIGHT/TOP_BOTTOM
BAND_ORGANIZATION: SINGLE FILE
BAND_CONTENT: BLACK&WHITE
BAND_CONTENT: UNDEFINED
BAND_CONTENT: UNDEFINED
BITS_PER_PIXEL: 8
SAMPLES_AND_LINES: 5550 7680
HORIZONTAL_DATUM: NAD83
HORIZONTAL_COORDINATE_SYSTEM: UTM
COORDINATE_ZONE: 12
HORIZONTAL_UNITS: METERS
HORIZONTAL_RESOLUTION: 1.00000
SECONDARY_HORIZONTAL_DATUM: NAD27
XY_ORIGIN: 364080.00000 5311260.00000
SECONDARY_XY_ORIGIN: 364141.89900 5311045.16200
NATION: US
STATE: MT
NW_QUAD_CORNER_XY: 364634.70900 5310943.46800
NE_QUAD_CORNER_XY: 369302.32800 5310835.70100
SE_QUAD_CORNERY_XY: 369144.84700 5303889.52400
SW_QUAD_CORNER_XY: 364471.60000 5303997.31500
SECONDARY_NW_QUAD_XY: 364630.45500 5310724.65300
SECONDARY_NE_QUAD_XY: 369298.22000 5310616.88200
SECONDARY_SE_QUAD_XY: 369140.73900 5303670.72200
SECONDARY_SW_QUAD_XY: 364467.34600 5303778.51500
RMSE_XY: 1.17000
IMAGE_SOURCE: BLACK AND WHITE FILM
SOURCE_IMAGE_ID: NAPP 8386 166
SOURCE_IMAGE_DATE: 1995 08 05
SOURCE_DEM_DATE: 1995 00 00
AGENCY: WESTERN MAPPING CENTER (WMC)
PRODUCER: ANALYTICAL SURVEYS INC.
PRODUCTION_SYSTEM: ORBIT OR_RECTIFY V.5.2
COMPRESSION: UNDEFINED
STANDARD_VERSION: 1996 12
METADATA_DATE: 1998 12 19
DATA_FILE_SIZE: 42629550
BYTE_COUNT: 5550
