FILENAME: O4711202.SWS.958251.tif
QUADRANGLE_NAME: MOUNT WRIGHT
QUADRANT: SW
WEST_LONGITUDE: -112 52 30.00000
EAST_LONGITUDE: -112 48 45.00000
NORTH_LATITUDE: 47 56 15.00000
SOUTH_LATITUDE: 47 52 30.00000
PRODUCTION_DATE: 1998 12 10
RASTER_ORDER: LEFT_RIGHT/TOP_BOTTOM
BAND_ORGANIZATION: SINGLE FILE
BAND_CONTENT: BLACK&WHITE
BAND_CONTENT: UNDEFINED
BAND_CONTENT: UNDEFINED
BITS_PER_PIXEL: 8
SAMPLES_AND_LINES: 5520 7710
HORIZONTAL_DATUM: NAD83
HORIZONTAL_COORDINATE_SYSTEM: UTM
COORDINATE_ZONE: 12
HORIZONTAL_UNITS: METERS
HORIZONTAL_RESOLUTION: 1.00000
SECONDARY_HORIZONTAL_DATUM: NAD27
XY_ORIGIN: 359430.00000 5311380.00000
SECONDARY_XY_ORIGIN: 359492.00000 5311165.19200
NATION: US
STATE: MT
NW_QUAD_CORNER_XY: 359967.10600 5311055.01800
NE_QUAD_CORNER_XY: 364634.70900 5310943.46800
SE_QUAD_CORNERY_XY: 364471.60000 5303997.31500
SW_QUAD_CORNER_XY: 359798.37000 5304108.88900
SECONDARY_NW_QUAD_XY: 359962.70500 5310836.20600
SECONDARY_NE_QUAD_XY: 364630.45500 5310724.65300
SECONDARY_SE_QUAD_XY: 364467.34600 5303778.51500
SECONDARY_SW_QUAD_XY: 359793.96900 5303890.09400
RMSE_XY: 2.51000
IMAGE_SOURCE: BLACK AND WHITE FILM
SOURCE_IMAGE_ID: NAPP 9491 48
SOURCE_IMAGE_DATE: 1995 09 01
SOURCE_IMAGE_ID: NAPP 9490 12
SOURCE_IMAGE_DATE: 1995 08 31
SOURCE_DEM_DATE: 1995 00 00
AGENCY: WESTERN MAPPING CENTER (WMC)
PRODUCER: ANALYTICAL SURVEYS INC.
PRODUCTION_SYSTEM: ORBIT OR_RECTIFY V.5.2
COMPRESSION: UNDEFINED
STANDARD_VERSION: 1996 12
METADATA_DATE: 1998 12 19
DATA_FILE_SIZE: 42564720
BYTE_COUNT: 5520
