FILENAME: O4711201.SES.46648.tif
QUADRANGLE_NAME: PORPHYRY REEF
QUADRANT: SE
WEST_LONGITUDE: -112 56 15.00000
EAST_LONGITUDE: -112 52 30.00000
NORTH_LATITUDE: 47 56 15.00000
SOUTH_LATITUDE: 47 52 30.00000
PRODUCTION_DATE: 1994 12 12
RASTER_ORDER: LEFT_RIGHT/TOP_BOTTOM
BAND_ORGANIZATION: SINGLE FILE
BAND_CONTENT: BLACK&WHITE
BAND_CONTENT: UNDEFINED
BAND_CONTENT: UNDEFINED
BITS_PER_PIXEL: 8
SAMPLES_AND_LINES: 5512 7669
HORIZONTAL_DATUM: NAD83
HORIZONTAL_COORDINATE_SYSTEM: UTM
COORDINATE_ZONE: 12
HORIZONTAL_UNITS: METERS
HORIZONTAL_RESOLUTION: 1.00000
SECONDARY_HORIZONTAL_DATUM: NAD27
XY_ORIGIN: 354757.00000 5311471.00000
SECONDARY_XY_ORIGIN: 354819.10100 5311256.22200
NATION: US
STATE: MT
NW_QUAD_CORNER_XY: 355299.52100 5311170.35200
NE_QUAD_CORNER_XY: 359967.10600 5311055.01800
SE_QUAD_CORNERY_XY: 359798.37000 5304108.88900
SW_QUAD_CORNER_XY: 355125.15600 5304224.24800
SECONDARY_NW_QUAD_XY: 355294.97300 5310951.54300
SECONDARY_NE_QUAD_XY: 359962.70500 5310836.20600
SECONDARY_SE_QUAD_XY: 359793.96900 5303890.09300
SECONDARY_SW_QUAD_XY: 355120.60800 5304005.45600
RMSE_XY: 3.30000
IMAGE_SOURCE: BLACK AND WHITE FILM
SOURCE_IMAGE_ID: NAPP 2571 038
SOURCE_IMAGE_DATE: 1990 8 6
SOURCE_DEM_DATE: 1994 12 12
AGENCY: WESTERN MAPPING CENTER (WMC)
PRODUCER: Science Applications International
PRODUCTION_SYSTEM: GIS/MAGIC
COMPRESSION: UNDEFINED
STANDARD_VERSION: 1996 12
METADATA_DATE: 1997 7 8
DATA_FILE_SIZE: 42277040
BYTE_COUNT: 5512
