FILENAME: O4711201.SWS.46649.tif
QUADRANGLE_NAME: PORPHYRY REEF
QUADRANT: SW
WEST_LONGITUDE: -113 0 0.00000
EAST_LONGITUDE: -112 56 15.00000
NORTH_LATITUDE: 47 56 15.00000
SOUTH_LATITUDE: 47 52 30.00000
PRODUCTION_DATE: 1994 12 12
RASTER_ORDER: LEFT_RIGHT/TOP_BOTTOM
BAND_ORGANIZATION: SINGLE FILE
BAND_CONTENT: BLACK&WHITE
BAND_CONTENT: UNDEFINED
BAND_CONTENT: UNDEFINED
BITS_PER_PIXEL: 8
SAMPLES_AND_LINES: 5517 7672
HORIZONTAL_DATUM: NAD83
HORIZONTAL_COORDINATE_SYSTEM: UTM
COORDINATE_ZONE: 12
HORIZONTAL_UNITS: METERS
HORIZONTAL_RESOLUTION: 1.00000
SECONDARY_HORIZONTAL_DATUM: NAD27
XY_ORIGIN: 350084.00000 5311590.00000
SECONDARY_XY_ORIGIN: 350146.20300 5311375.25200
NATION: US
STATE: MT
NW_QUAD_CORNER_XY: 350631.95300 5311289.46900
NE_QUAD_CORNER_XY: 355299.52100 5311170.35200
SE_QUAD_CORNERY_XY: 355125.15600 5304224.24800
SW_QUAD_CORNER_XY: 350451.95900 5304343.39200
SECONDARY_NW_QUAD_XY: 350627.25800 5311070.66500
SECONDARY_NE_QUAD_XY: 355294.97300 5310951.54300
SECONDARY_SE_QUAD_XY: 355120.60800 5304005.45600
SECONDARY_SW_QUAD_XY: 350447.26500 5304124.60400
RMSE_XY: 2.30000
IMAGE_SOURCE: BLACK AND WHITE FILM
SOURCE_IMAGE_ID: NAPP 2573 022
SOURCE_IMAGE_DATE: 1990 8 7
SOURCE_DEM_DATE: 1994 12 12
AGENCY: WESTERN MAPPING CENTER (WMC)
PRODUCER: Science Applications International
PRODUCTION_SYSTEM: GIS/MAGIC
COMPRESSION: UNDEFINED
STANDARD_VERSION: 1996 12
METADATA_DATE: 1997 7 8
DATA_FILE_SIZE: 42331941
BYTE_COUNT: 5517
