FILENAME: O4711362.NWS.1078864.tif
QUADRANGLE_NAME: WOODWORTH
QUADRANT: NW
WEST_LONGITUDE: -113 22 30.00000
EAST_LONGITUDE: -113 18 45.00000
NORTH_LATITUDE: 47 7 30.00000
SOUTH_LATITUDE: 47 3 45.00000
PRODUCTION_DATE: 2000 4 21
RASTER_ORDER: LEFT_RIGHT/TOP_BOTTOM
BAND_ORGANIZATION: SINGLE FILE
BAND_CONTENT: BLACK&WHITE
BAND_CONTENT: UNDEFINED
BAND_CONTENT: UNDEFINED
BITS_PER_PIXEL: 8
SAMPLES_AND_LINES: 5623 7695
HORIZONTAL_DATUM: NAD83
HORIZONTAL_COORDINATE_SYSTEM: UTM
COORDINATE_ZONE: 12
HORIZONTAL_UNITS: METERS
HORIZONTAL_RESOLUTION: 1.00000
SECONDARY_HORIZONTAL_DATUM: NAD27
XY_ORIGIN: 319283.00000 5222092.00000
SECONDARY_XY_ORIGIN: 319346.37000 5221878.47300
NATION: US
NATION: "SCIENCE
STATE: MT
NW_QUAD_CORNER_XY: 319864.56200 5221791.83700
NE_QUAD_CORNER_XY: 324604.77800 5221649.65700
SE_QUAD_CORNERY_XY: 324399.34800 5214704.55200
SW_QUAD_CORNER_XY: 319653.57500 5214846.75400
SECONDARY_NW_QUAD_XY: 319858.99600 5221573.33200
SECONDARY_NE_QUAD_XY: 324599.35700 5221431.14700
SECONDARY_SE_QUAD_XY: 324393.92800 5214486.06900
SECONDARY_SW_QUAD_XY: 319648.00900 5214628.27600
RMSE_XY: 3.10000
IMAGE_SOURCE: BLACK AND WHITE FILM
SOURCE_IMAGE_ID: NAPP 8396 115
SOURCE_IMAGE_DATE: 1995 08 27
SOURCE_IMAGE_ID: NAPP 8396 121
SOURCE_IMAGE_DATE: 1995 08 27
SOURCE_IMAGE_ID: NAPP 8396 123
SOURCE_IMAGE_DATE: 1995 08 27
SOURCE_IMAGE_ID: NAPP 8391 188
SOURCE_IMAGE_DATE: 1995 08 01
SOURCE_DEM_DATE: 1987 00 00
AGENCY: WESTERN MAPPING CENTER (WMC)
PRODUCER: UNDEFINED
PRODUCTION_SYSTEM: GIS/MAGIC
COMPRESSION: UNDEFINED
STANDARD_VERSION: 1996 12
METADATA_DATE: 2000 05 27
DATA_FILE_SIZE: 43274608
BYTE_COUNT: 5623
