FILENAME: O4711361.NES.1078851.tif
QUADRANGLE_NAME: SALMON LAKE
QUADRANT: NE
WEST_LONGITUDE: -113 26 15.00000
EAST_LONGITUDE: -113 22 30.00000
NORTH_LATITUDE: 47 7 30.00000
SOUTH_LATITUDE: 47 3 45.00000
PRODUCTION_DATE: 2000 4 18
RASTER_ORDER: LEFT_RIGHT/TOP_BOTTOM
BAND_ORGANIZATION: SINGLE FILE
BAND_CONTENT: BLACK&WHITE
BAND_CONTENT: UNDEFINED
BAND_CONTENT: UNDEFINED
BITS_PER_PIXEL: 8
SAMPLES_AND_LINES: 5629 7699
HORIZONTAL_DATUM: NAD83
HORIZONTAL_COORDINATE_SYSTEM: UTM
COORDINATE_ZONE: 12
HORIZONTAL_UNITS: METERS
HORIZONTAL_RESOLUTION: 1.00000
SECONDARY_HORIZONTAL_DATUM: NAD27
XY_ORIGIN: 314537.00000 5222238.00000
SECONDARY_XY_ORIGIN: 314600.53700 5222024.51800
NATION: US
NATION: "SCIENCE
STATE: MT
NW_QUAD_CORNER_XY: 315124.36300 5221937.81300
NE_QUAD_CORNER_XY: 319864.56200 5221791.83700
SE_QUAD_CORNERY_XY: 319653.57500 5214846.75400
SW_QUAD_CORNER_XY: 314907.81700 5214992.75300
SECONDARY_NW_QUAD_XY: 315118.64900 5221719.31200
SECONDARY_NE_QUAD_XY: 319858.99600 5221573.33200
SECONDARY_SE_QUAD_XY: 319648.00900 5214628.27600
SECONDARY_SW_QUAD_XY: 314902.10400 5214774.28000
RMSE_XY: 1.40000
IMAGE_SOURCE: BLACK AND WHITE FILM
SOURCE_IMAGE_ID: NAPP 8396 122
SOURCE_IMAGE_DATE: 1995 08 27
SOURCE_IMAGE_ID: NAPP 8396 121
SOURCE_IMAGE_DATE: 1995 08 27
SOURCE_IMAGE_ID: NAPP 8396 123
SOURCE_IMAGE_DATE: 1995 08 27
SOURCE_DEM_DATE: 1964 00 00
AGENCY: WESTERN MAPPING CENTER (WMC)
PRODUCER: UNDEFINED
PRODUCTION_SYSTEM: GIS/MAGIC
COMPRESSION: UNDEFINED
STANDARD_VERSION: 1996 12
METADATA_DATE: 2000 05 27
DATA_FILE_SIZE: 43343300
BYTE_COUNT: 5629
