FILENAME: O4711361.SWS.1078854.tif
QUADRANGLE_NAME: SALMON LAKE
QUADRANT: SW
WEST_LONGITUDE: -113 30 0.00000
EAST_LONGITUDE: -113 26 15.00000
NORTH_LATITUDE: 47 3 45.00000
SOUTH_LATITUDE: 47 0 0.00000
PRODUCTION_DATE: 2000 4 18
RASTER_ORDER: LEFT_RIGHT/TOP_BOTTOM
BAND_ORGANIZATION: SINGLE FILE
BAND_CONTENT: BLACK&WHITE
BAND_CONTENT: UNDEFINED
BAND_CONTENT: UNDEFINED
BITS_PER_PIXEL: 8
SAMPLES_AND_LINES: 5640 7703
HORIZONTAL_DATUM: NAD83
HORIZONTAL_COORDINATE_SYSTEM: UTM
COORDINATE_ZONE: 12
HORIZONTAL_UNITS: METERS
HORIZONTAL_RESOLUTION: 1.00000
SECONDARY_HORIZONTAL_DATUM: NAD27
XY_ORIGIN: 309569.00000 5215443.00000
SECONDARY_XY_ORIGIN: 309632.89000 5215229.68100
NATION: US
NATION: "SCIENCE
STATE: MT
NW_QUAD_CORNER_XY: 310162.07500 5215142.54800
NE_QUAD_CORNER_XY: 314907.81700 5214992.75300
SE_QUAD_CORNERY_XY: 314691.49200 5208047.75600
SW_QUAD_CORNER_XY: 309940.19700 5208197.57400
SECONDARY_NW_QUAD_XY: 310156.21600 5214924.07900
SECONDARY_NE_QUAD_XY: 314902.10400 5214774.28000
SECONDARY_SE_QUAD_XY: 314685.78100 5207829.31000
SECONDARY_SW_QUAD_XY: 309934.33900 5207979.13300
RMSE_XY: 1.10000
IMAGE_SOURCE: BLACK AND WHITE FILM
SOURCE_IMAGE_ID: NAPP 9494 011
SOURCE_IMAGE_DATE: 1995 09 14
SOURCE_IMAGE_ID: NAPP 8390 065
SOURCE_IMAGE_DATE: 1995 07 31
SOURCE_DEM_DATE: 1964 00 00
AGENCY: WESTERN MAPPING CENTER (WMC)
PRODUCER: UNDEFINED
PRODUCTION_SYSTEM: GIS/MAGIC
COMPRESSION: UNDEFINED
STANDARD_VERSION: 1996 12
METADATA_DATE: 2000 05 27
DATA_FILE_SIZE: 43450560
BYTE_COUNT: 5640
