FILENAME: O4711360.NWS.1078828.tif
QUADRANGLE_NAME: BELMONT POINT
QUADRANT: NW
WEST_LONGITUDE: -113 37 30.00000
EAST_LONGITUDE: -113 33 45.00000
NORTH_LATITUDE: 47 7 30.00000
SOUTH_LATITUDE: 47 3 45.00000
PRODUCTION_DATE: 2000 4 18
RASTER_ORDER: LEFT_RIGHT/TOP_BOTTOM
BAND_ORGANIZATION: SINGLE FILE
BAND_CONTENT: BLACK&WHITE
BAND_CONTENT: UNDEFINED
BAND_CONTENT: UNDEFINED
BITS_PER_PIXEL: 8
SAMPLES_AND_LINES: 5647 7711
HORIZONTAL_DATUM: NAD83
HORIZONTAL_COORDINATE_SYSTEM: UTM
COORDINATE_ZONE: 12
HORIZONTAL_UNITS: METERS
HORIZONTAL_RESOLUTION: 1.00000
SECONDARY_HORIZONTAL_DATUM: NAD27
XY_ORIGIN: 300299.00000 5222699.00000
SECONDARY_XY_ORIGIN: 300362.96100 5222485.64600
NATION: US
NATION: "SCIENCE
STATE: MT
NW_QUAD_CORNER_XY: 300903.86300 5222398.51500
NE_QUAD_CORNER_XY: 305644.01300 5222241.15200
SE_QUAD_CORNERY_XY: 305416.34900 5215296.14000
SW_QUAD_CORNER_XY: 300670.64000 5215453.52800
SECONDARY_NW_QUAD_XY: 300897.71000 5222180.02900
SECONDARY_NE_QUAD_XY: 305638.00600 5222022.66000
SECONDARY_SE_QUAD_XY: 305410.34300 5215077.67600
SECONDARY_SW_QUAD_XY: 300664.48700 5215235.06900
RMSE_XY: 2.50000
IMAGE_SOURCE: BLACK AND WHITE FILM
SOURCE_IMAGE_ID: NAPP 8403 018
SOURCE_IMAGE_DATE: 1995 09 02
SOURCE_IMAGE_ID: NAPP 8393 144
SOURCE_IMAGE_DATE: 1995 08 19
SOURCE_IMAGE_ID: NAPP 8393 147
SOURCE_IMAGE_DATE: 1995 08 19
SOURCE_IMAGE_ID: NAPP 8403 017
SOURCE_IMAGE_DATE: 1995 09 02
SOURCE_DEM_DATE: 1987 00 00
AGENCY: WESTERN MAPPING CENTER (WMC)
PRODUCER: UNDEFINED
PRODUCTION_SYSTEM: GIS/MAGIC
COMPRESSION: UNDEFINED
STANDARD_VERSION: 1996 12
METADATA_DATE: 2000 05 27
DATA_FILE_SIZE: 43549664
BYTE_COUNT: 5647
