FILENAME: O4711360.SES.1078829.tif
QUADRANGLE_NAME: BELMONT POINT
QUADRANT: SE
WEST_LONGITUDE: -113 33 45.00000
EAST_LONGITUDE: -113 30 0.00000
NORTH_LATITUDE: 47 3 45.00000
SOUTH_LATITUDE: 47 0 0.00000
PRODUCTION_DATE: 2000 4 18
RASTER_ORDER: LEFT_RIGHT/TOP_BOTTOM
BAND_ORGANIZATION: SINGLE FILE
BAND_CONTENT: BLACK&WHITE
BAND_CONTENT: UNDEFINED
BAND_CONTENT: UNDEFINED
BITS_PER_PIXEL: 8
SAMPLES_AND_LINES: 5647 7707
HORIZONTAL_DATUM: NAD83
HORIZONTAL_COORDINATE_SYSTEM: UTM
COORDINATE_ZONE: 12
HORIZONTAL_UNITS: METERS
HORIZONTAL_RESOLUTION: 1.00000
SECONDARY_HORIZONTAL_DATUM: NAD27
XY_ORIGIN: 304817.00000 5215597.00000
SECONDARY_XY_ORIGIN: 304881.02300 5215383.73300
NATION: US
NATION: "SCIENCE
STATE: MT
NW_QUAD_CORNER_XY: 305416.34900 5215296.14000
NE_QUAD_CORNER_XY: 310162.07500 5215142.54800
SE_QUAD_CORNERY_XY: 309940.19700 5208197.57400
SW_QUAD_CORNER_XY: 305188.91800 5208351.18900
SECONDARY_NW_QUAD_XY: 305410.34300 5215077.67600
SECONDARY_NE_QUAD_XY: 310156.21600 5214924.07900
SECONDARY_SE_QUAD_XY: 309934.33900 5207979.13300
SECONDARY_SW_QUAD_XY: 305182.91300 5208132.75300
RMSE_XY: 3.20000
IMAGE_SOURCE: BLACK AND WHITE FILM
SOURCE_IMAGE_ID: NAPP 8396 157
SOURCE_IMAGE_DATE: 1995 08 27
SOURCE_IMAGE_ID: NAPP 8403 017
SOURCE_IMAGE_DATE: 1995 09 02
SOURCE_IMAGE_ID: NAPP 8391 211
SOURCE_IMAGE_DATE: 1995 08 01
SOURCE_IMAGE_ID: NAPP 8396 156
SOURCE_IMAGE_DATE: 1995 08 27
SOURCE_DEM_DATE: 1987 00 00
AGENCY: WESTERN MAPPING CENTER (WMC)
PRODUCER: UNDEFINED
PRODUCTION_SYSTEM: GIS/MAGIC
COMPRESSION: UNDEFINED
STANDARD_VERSION: 1996 12
METADATA_DATE: 2000 05 27
DATA_FILE_SIZE: 43527076
BYTE_COUNT: 5647
