FILENAME: O4711359.NES.1078815.tif
QUADRANGLE_NAME: GOLD CREEK PEAK
QUADRANT: NE
WEST_LONGITUDE: -113 41 15.00000
EAST_LONGITUDE: -113 37 30.00000
NORTH_LATITUDE: 47 7 30.00000
SOUTH_LATITUDE: 47 3 45.00000
PRODUCTION_DATE: 2000 4 18
RASTER_ORDER: LEFT_RIGHT/TOP_BOTTOM
BAND_ORGANIZATION: SINGLE FILE
BAND_CONTENT: BLACK&WHITE
BAND_CONTENT: UNDEFINED
BAND_CONTENT: UNDEFINED
BITS_PER_PIXEL: 8
SAMPLES_AND_LINES: 5652 7714
HORIZONTAL_DATUM: NAD83
HORIZONTAL_COORDINATE_SYSTEM: UTM
COORDINATE_ZONE: 12
HORIZONTAL_UNITS: METERS
HORIZONTAL_RESOLUTION: 1.00000
SECONDARY_HORIZONTAL_DATUM: NAD27
XY_ORIGIN: 295553.00000 5222860.00000
SECONDARY_XY_ORIGIN: 295617.09100 5222646.68700
NATION: US
NATION: "SCIENCE
STATE: MT
NW_QUAD_CORNER_XY: 296163.73100 5222559.67600
NE_QUAD_CORNER_XY: 300903.86300 5222398.51500
SE_QUAD_CORNERY_XY: 300670.64000 5215453.52800
SW_QUAD_CORNER_XY: 295924.94700 5215614.71400
SECONDARY_NW_QUAD_XY: 296157.43100 5222341.19500
SECONDARY_NE_QUAD_XY: 300897.71000 5222180.02900
SECONDARY_SE_QUAD_XY: 300664.48700 5215235.06900
SECONDARY_SW_QUAD_XY: 295918.64900 5215396.26000
RMSE_XY: 3.60000
IMAGE_SOURCE: BLACK AND WHITE FILM
SOURCE_IMAGE_ID: NAPP 8393 145
SOURCE_IMAGE_DATE: 1995 08 19
SOURCE_DEM_DATE: 1964 00 00
AGENCY: WESTERN MAPPING CENTER (WMC)
PRODUCER: UNDEFINED
PRODUCTION_SYSTEM: GIS/MAGIC
COMPRESSION: UNDEFINED
STANDARD_VERSION: 1996 12
METADATA_DATE: 2000 05 27
DATA_FILE_SIZE: 43605180
BYTE_COUNT: 5652
