FILENAME: O4711359.NWS.1078816.tif
QUADRANGLE_NAME: GOLD CREEK PEAK
QUADRANT: NW
WEST_LONGITUDE: -113 45 0.00000
EAST_LONGITUDE: -113 41 15.00000
NORTH_LATITUDE: 47 7 30.00000
SOUTH_LATITUDE: 47 3 45.00000
PRODUCTION_DATE: 2000 4 18
RASTER_ORDER: LEFT_RIGHT/TOP_BOTTOM
BAND_ORGANIZATION: SINGLE FILE
BAND_CONTENT: BLACK&WHITE
BAND_CONTENT: UNDEFINED
BAND_CONTENT: UNDEFINED
BITS_PER_PIXEL: 8
SAMPLES_AND_LINES: 5658 7718
HORIZONTAL_DATUM: NAD83
HORIZONTAL_COORDINATE_SYSTEM: UTM
COORDINATE_ZONE: 12
HORIZONTAL_UNITS: METERS
HORIZONTAL_RESOLUTION: 1.00000
SECONDARY_HORIZONTAL_DATUM: NAD27
XY_ORIGIN: 290807.00000 5223025.00000
SECONDARY_XY_ORIGIN: 290871.22100 5222811.72700
NATION: US
NATION: "SCIENCE
STATE: MT
NW_QUAD_CORNER_XY: 291423.61700 5222724.63300
NE_QUAD_CORNER_XY: 296163.73100 5222559.67600
SE_QUAD_CORNERY_XY: 295924.94700 5215614.71400
SW_QUAD_CORNER_XY: 291179.27200 5215779.69800
SECONDARY_NW_QUAD_XY: 291417.17000 5222506.15700
SECONDARY_NE_QUAD_XY: 296157.43100 5222341.19500
SECONDARY_SE_QUAD_XY: 295918.64900 5215396.26000
SECONDARY_SW_QUAD_XY: 291172.82700 5215561.24900
RMSE_XY: 2.10000
IMAGE_SOURCE: BLACK AND WHITE FILM
SOURCE_IMAGE_ID: NAPP 8398 078
SOURCE_IMAGE_DATE: 1995 08 28
SOURCE_IMAGE_ID: NAPP 8398 044
SOURCE_IMAGE_DATE: 1995 08 28
SOURCE_IMAGE_ID: NAPP 8398 077
SOURCE_IMAGE_DATE: 1995 08 28
SOURCE_IMAGE_ID: NAPP 8398 079
SOURCE_IMAGE_DATE: 1995 08 28
SOURCE_IMAGE_ID: NAPP 8393 145
SOURCE_IMAGE_DATE: 1995 08 19
SOURCE_DEM_DATE: 1964 00 00
AGENCY: WESTERN MAPPING CENTER (WMC)
PRODUCER: UNDEFINED
PRODUCTION_SYSTEM: GIS/MAGIC
COMPRESSION: UNDEFINED
STANDARD_VERSION: 1996 12
METADATA_DATE: 2000 05 27
DATA_FILE_SIZE: 43674102
BYTE_COUNT: 5658
