FILENAME: O4711358.SES.1078805.tif
QUADRANGLE_NAME: WAPITI LAKE
QUADRANT: SE
WEST_LONGITUDE: -113 48 45.00000
EAST_LONGITUDE: -113 45 0.00000
NORTH_LATITUDE: 47 3 45.00000
SOUTH_LATITUDE: 47 0 0.00000
PRODUCTION_DATE: 2000 4 18
RASTER_ORDER: LEFT_RIGHT/TOP_BOTTOM
BAND_ORGANIZATION: SINGLE FILE
BAND_CONTENT: BLACK&WHITE
BAND_CONTENT: UNDEFINED
BAND_CONTENT: UNDEFINED
BITS_PER_PIXEL: 8
SAMPLES_AND_LINES: 5670 7722
HORIZONTAL_DATUM: NAD83
HORIZONTAL_COORDINATE_SYSTEM: UTM
COORDINATE_ZONE: 12
HORIZONTAL_UNITS: METERS
HORIZONTAL_RESOLUTION: 1.00000
SECONDARY_HORIZONTAL_DATUM: NAD27
XY_ORIGIN: 285811.00000 5216249.00000
SECONDARY_XY_ORIGIN: 285875.51200 5216035.93900
NATION: US
NATION: "SCIENCE
STATE: MT
NW_QUAD_CORNER_XY: 286433.61500 5215948.48000
NE_QUAD_CORNER_XY: 291179.27200 5215779.69800
SE_QUAD_CORNERY_XY: 290935.17800 5208834.82200
SW_QUAD_CORNER_XY: 286183.96500 5209003.62900
SECONDARY_NW_QUAD_XY: 286427.02300 5215730.03600
SECONDARY_NE_QUAD_XY: 291172.82700 5215561.24900
SECONDARY_SE_QUAD_XY: 290928.73400 5208616.40000
SECONDARY_SW_QUAD_XY: 286177.37400 5208785.21300
RMSE_XY: 2.70000
IMAGE_SOURCE: BLACK AND WHITE FILM
SOURCE_IMAGE_ID: NAPP 8398 047
SOURCE_IMAGE_DATE: 1995 08 28
SOURCE_IMAGE_ID: NAPP 8398 046
SOURCE_IMAGE_DATE: 1995 08 28
SOURCE_DEM_DATE: 1964 00 00
AGENCY: WESTERN MAPPING CENTER (WMC)
PRODUCER: UNDEFINED
PRODUCTION_SYSTEM: GIS/MAGIC
COMPRESSION: UNDEFINED
STANDARD_VERSION: 1996 12
METADATA_DATE: 2000 05 27
DATA_FILE_SIZE: 43789410
BYTE_COUNT: 5670
