FILENAME: O4711357.NES.1078742.tif
QUADRANGLE_NAME: STUART PEAK
QUADRANT: NE
WEST_LONGITUDE: -113 56 15.00000
EAST_LONGITUDE: -113 52 30.00000
NORTH_LATITUDE: 47 7 30.00000
SOUTH_LATITUDE: 47 3 45.00000
PRODUCTION_DATE: 2000 4 18
RASTER_ORDER: LEFT_RIGHT/TOP_BOTTOM
BAND_ORGANIZATION: SINGLE FILE
BAND_CONTENT: BLACK&WHITE
BAND_CONTENT: UNDEFINED
BAND_CONTENT: UNDEFINED
BITS_PER_PIXEL: 8
SAMPLES_AND_LINES: 5676 7730
HORIZONTAL_DATUM: NAD83
HORIZONTAL_COORDINATE_SYSTEM: UTM
COORDINATE_ZONE: 12
HORIZONTAL_UNITS: METERS
HORIZONTAL_RESOLUTION: 1.00000
SECONDARY_HORIZONTAL_DATUM: NAD27
XY_ORIGIN: 276569.00000 5223543.00000
SECONDARY_XY_ORIGIN: 276633.48500 5223329.86400
NATION: US
NATION: "SCIENCE
STATE: MT
NW_QUAD_CORNER_XY: 277203.38500 5223242.29200
NE_QUAD_CORNER_XY: 281943.44300 5223065.94100
SE_QUAD_CORNERY_XY: 281687.97600 5216121.06000
SW_QUAD_CORNER_XY: 276942.35600 5216297.43900
SECONDARY_NW_QUAD_XY: 277196.50000 5223023.83200
SECONDARY_NE_QUAD_XY: 281936.70400 5222847.47500
SECONDARY_SE_QUAD_XY: 281681.23800 5215902.62100
SECONDARY_SW_QUAD_XY: 276935.47100 5216079.00600
RMSE_XY: 3.00000
IMAGE_SOURCE: BLACK AND WHITE FILM
SOURCE_IMAGE_ID: NAPP 8398 053
SOURCE_IMAGE_DATE: 1995 08 28
SOURCE_IMAGE_ID: NAPP 8389 051
SOURCE_IMAGE_DATE: 1995 07 31
SOURCE_IMAGE_ID: NAPP 8396 160
SOURCE_IMAGE_DATE: 1995 08 27
SOURCE_IMAGE_ID: NAPP 8398 072
SOURCE_IMAGE_DATE: 1995 08 28
SOURCE_IMAGE_ID: NAPP 8398 070
SOURCE_IMAGE_DATE: 1995 08 28
SOURCE_DEM_DATE: 1976 00 00
AGENCY: WESTERN MAPPING CENTER (WMC)
PRODUCER: UNDEFINED
PRODUCTION_SYSTEM: GIS/MAGIC
COMPRESSION: UNDEFINED
STANDARD_VERSION: 1996 12
METADATA_DATE: 2000 05 27
DATA_FILE_SIZE: 43881156
BYTE_COUNT: 5676
