FILENAME: O4711355.SES.949942.tif
QUADRANGLE_NAME: DUNHAM POINT
QUADRANT: SE
WEST_LONGITUDE: -113 11 15.00000
EAST_LONGITUDE: -113 7 30.00000
NORTH_LATITUDE: 47 11 15.00000
SOUTH_LATITUDE: 47 7 30.00000
PRODUCTION_DATE: 1998 12 21
RASTER_ORDER: LEFT_RIGHT/TOP_BOTTOM
BAND_ORGANIZATION: SINGLE FILE
BAND_CONTENT: BLACK&WHITE
BAND_CONTENT: UNDEFINED
BAND_CONTENT: UNDEFINED
BITS_PER_PIXEL: 8
SAMPLES_AND_LINES: 5640 7710
HORIZONTAL_DATUM: NAD83
HORIZONTAL_COORDINATE_SYSTEM: UTM
COORDINATE_ZONE: 12
HORIZONTAL_UNITS: METERS
HORIZONTAL_RESOLUTION: 1.00000
SECONDARY_HORIZONTAL_DATUM: NAD27
XY_ORIGIN: 333690.00000 5228640.00000
SECONDARY_XY_ORIGIN: 333752.75300 5228426.25800
NATION: US
STATE: MT
NW_QUAD_CORNER_XY: 334279.76800 5228321.89500
NE_QUAD_CORNER_XY: 339014.46600 5228191.12100
SE_QUAD_CORNERY_XY: 338825.51400 5221245.88600
SW_QUAD_CORNER_XY: 334085.25400 5221376.68200
SECONDARY_NW_QUAD_XY: 334274.64000 5228103.35100
SECONDARY_NE_QUAD_XY: 339009.48500 5227972.57200
SECONDARY_SE_QUAD_XY: 338820.53300 5221027.36400
SECONDARY_SW_QUAD_XY: 334080.12700 5221158.16400
RMSE_XY: 4.17000
IMAGE_SOURCE: BLACK AND WHITE FILM
SOURCE_IMAGE_ID: NAPP 8401 126
SOURCE_IMAGE_DATE: 1995 08 31
SOURCE_IMAGE_ID: NAPP 8401 128
SOURCE_IMAGE_DATE: 1995 08 31
SOURCE_IMAGE_ID: NAPP 8401 117
SOURCE_IMAGE_DATE: 1995 08 31
SOURCE_DEM_DATE: 1988 00 00
AGENCY: WESTERN MAPPING CENTER (WMC)
PRODUCER: ANALYTICAL SURVEYS INC.
PRODUCTION_SYSTEM: ORBIT OR_RECTIFY V.5.2
COMPRESSION: UNDEFINED
STANDARD_VERSION: 1996 12
METADATA_DATE: 1999 01 06
DATA_FILE_SIZE: 43490040
BYTE_COUNT: 5640
