FILENAME: O4711355.SWS.949943.tif
QUADRANGLE_NAME: DUNHAM POINT
QUADRANT: SW
WEST_LONGITUDE: -113 15 0.00000
EAST_LONGITUDE: -113 11 15.00000
NORTH_LATITUDE: 47 11 15.00000
SOUTH_LATITUDE: 47 7 30.00000
PRODUCTION_DATE: 1998 12 18
RASTER_ORDER: LEFT_RIGHT/TOP_BOTTOM
BAND_ORGANIZATION: SINGLE FILE
BAND_CONTENT: BLACK&WHITE
BAND_CONTENT: UNDEFINED
BAND_CONTENT: UNDEFINED
BITS_PER_PIXEL: 8
SAMPLES_AND_LINES: 5640 7710
HORIZONTAL_DATUM: NAD83
HORIZONTAL_COORDINATE_SYSTEM: UTM
COORDINATE_ZONE: 12
HORIZONTAL_UNITS: METERS
HORIZONTAL_RESOLUTION: 1.00000
SECONDARY_HORIZONTAL_DATUM: NAD27
XY_ORIGIN: 328950.00000 5228760.00000
SECONDARY_XY_ORIGIN: 329012.84300 5228546.26900
NATION: US
STATE: MT
NW_QUAD_CORNER_XY: 329545.08500 5228456.46400
NE_QUAD_CORNER_XY: 334279.76800 5228321.89500
SE_QUAD_CORNERY_XY: 334085.25400 5221376.68200
SW_QUAD_CORNER_XY: 329345.00800 5221511.27200
SECONDARY_NW_QUAD_XY: 329539.81100 5228237.92400
SECONDARY_NE_QUAD_XY: 334274.64000 5228103.35100
SECONDARY_SE_QUAD_XY: 334080.12700 5221158.16400
SECONDARY_SW_QUAD_XY: 329339.73500 5221292.75800
RMSE_XY: 3.21000
IMAGE_SOURCE: BLACK AND WHITE FILM
SOURCE_IMAGE_ID: NAPP 8398 157
SOURCE_IMAGE_DATE: 1995 08 28
SOURCE_IMAGE_ID: NAPP 8401 126
SOURCE_IMAGE_DATE: 1995 08 31
SOURCE_DEM_DATE: 1988 00 00
AGENCY: WESTERN MAPPING CENTER (WMC)
PRODUCER: ANALYTICAL SURVEYS INC.
PRODUCTION_SYSTEM: ORBIT OR_RECTIFY V.5.2
COMPRESSION: UNDEFINED
STANDARD_VERSION: 1996 12
METADATA_DATE: 1999 01 06
DATA_FILE_SIZE: 43490040
BYTE_COUNT: 5640
