FILENAME: O4711351.SWS.1078814.tif
QUADRANGLE_NAME: UPPER JOCKO LAKE
QUADRANT: SW
WEST_LONGITUDE: -113 45 0.00000
EAST_LONGITUDE: -113 41 15.00000
NORTH_LATITUDE: 47 11 15.00000
SOUTH_LATITUDE: 47 7 30.00000
PRODUCTION_DATE: 2000 3 22
RASTER_ORDER: LEFT_RIGHT/TOP_BOTTOM
BAND_ORGANIZATION: SINGLE FILE
BAND_CONTENT: BLACK&WHITE
BAND_CONTENT: UNDEFINED
BAND_CONTENT: UNDEFINED
BITS_PER_PIXEL: 8
SAMPLES_AND_LINES: 5653 7718
HORIZONTAL_DATUM: NAD83
HORIZONTAL_COORDINATE_SYSTEM: UTM
COORDINATE_ZONE: 12
HORIZONTAL_UNITS: METERS
HORIZONTAL_RESOLUTION: 1.00000
SECONDARY_HORIZONTAL_DATUM: NAD27
XY_ORIGIN: 291051.00000 5229970.00000
SECONDARY_XY_ORIGIN: 291115.01500 5229756.57500
NATION: US
NATION: "SCIENCE
STATE: MT
NW_QUAD_CORNER_XY: 291668.21100 5229669.62700
NE_QUAD_CORNER_XY: 296402.75900 5229504.69700
SE_QUAD_CORNERY_XY: 296163.73100 5222559.67600
SW_QUAD_CORNER_XY: 291423.61700 5222724.63300
SECONDARY_NW_QUAD_XY: 291661.76400 5229451.12500
SECONDARY_NE_QUAD_XY: 296396.45800 5229286.18900
SECONDARY_SE_QUAD_XY: 296157.43100 5222341.19500
SECONDARY_SW_QUAD_XY: 291417.17000 5222506.15700
RMSE_XY: 2.90000
IMAGE_SOURCE: BLACK AND WHITE FILM
SOURCE_IMAGE_ID: NAPP 8398 080
SOURCE_IMAGE_DATE: 1995 08 28
SOURCE_IMAGE_ID: NAPP 8398 043
SOURCE_IMAGE_DATE: 1995 08 28
SOURCE_IMAGE_ID: NAPP 8398 081
SOURCE_IMAGE_DATE: 1995 08 28
SOURCE_DEM_DATE: 1964 00 00
AGENCY: WESTERN MAPPING CENTER (WMC)
PRODUCER: UNDEFINED
PRODUCTION_SYSTEM: GIS/MAGIC
COMPRESSION: UNDEFINED
STANDARD_VERSION: 1996 12
METADATA_DATE: 2000 05 27
DATA_FILE_SIZE: 43635507
BYTE_COUNT: 5653
