FILENAME: O4711347.NWS.949873.tif
QUADRANGLE_NAME: HAHN CREEK PASS
QUADRANT: NW
WEST_LONGITUDE: -113 15 0.00000
EAST_LONGITUDE: -113 11 15.00000
NORTH_LATITUDE: 47 22 30.00000
SOUTH_LATITUDE: 47 18 45.00000
PRODUCTION_DATE: 1998 12 18
RASTER_ORDER: LEFT_RIGHT/TOP_BOTTOM
BAND_ORGANIZATION: SINGLE FILE
BAND_CONTENT: BLACK&WHITE
BAND_CONTENT: UNDEFINED
BAND_CONTENT: UNDEFINED
BITS_PER_PIXEL: 8
SAMPLES_AND_LINES: 5640 7710
HORIZONTAL_DATUM: NAD83
HORIZONTAL_COORDINATE_SYSTEM: UTM
COORDINATE_ZONE: 12
HORIZONTAL_UNITS: METERS
HORIZONTAL_RESOLUTION: 1.00000
SECONDARY_HORIZONTAL_DATUM: NAD27
XY_ORIGIN: 329550.00000 5249610.00000
SECONDARY_XY_ORIGIN: 329612.53400 5249396.11100
NATION: US
STATE: MT
NW_QUAD_CORNER_XY: 330146.54000 5249292.42500
NE_QUAD_CORNER_XY: 334864.50200 5249157.92600
SE_QUAD_CORNERY_XY: 334669.39300 5242212.51700
SW_QUAD_CORNER_XY: 329945.85200 5242347.04000
SECONDARY_NW_QUAD_XY: 330141.26400 5249073.81100
SECONDARY_NE_QUAD_XY: 334859.37200 5248939.30800
SECONDARY_SE_QUAD_XY: 334664.26300 5241993.92300
SECONDARY_SW_QUAD_XY: 329940.57600 5242128.45000
RMSE_XY: 2.84000
IMAGE_SOURCE: BLACK AND WHITE FILM
SOURCE_IMAGE_ID: NAPP 8398 151
SOURCE_IMAGE_DATE: 1995 08 28
SOURCE_IMAGE_ID: NAPP 8401 130
SOURCE_IMAGE_DATE: 1995 08 31
SOURCE_IMAGE_ID: NAPP 8398 153
SOURCE_IMAGE_DATE: 1995 08 28
SOURCE_DEM_DATE: 1970 00 00
AGENCY: WESTERN MAPPING CENTER (WMC)
PRODUCER: ANALYTICAL SURVEYS INC.
PRODUCTION_SYSTEM: ORBIT OR_RECTIFY V.5.2
COMPRESSION: UNDEFINED
STANDARD_VERSION: 1996 12
METADATA_DATE: 1998 12 29
DATA_FILE_SIZE: 43490040
BYTE_COUNT: 5640
