Note: This header file was extracted from a digital orthophoto image that covers a full 7.5-minute quadrangle in Universal Transverse Mercator Coordinates. The State Library converted that image to Montana State Plane Coordinates, units meters, and extracted portions of the image that cover a 3.75-minute quarter-quadrangle. The coordinates given in this file do not apply to the State Plane Coordinate images.
BEGIN_USGS_DOQ_HEADER *
QUADRANGLE_NAME "GRAY WOLF LAKE" *
QUADRANT *
WEST_LONGITUDE -113 52 30.000 *
EAST_LONGITUDE -113 45 0.000 *
NORTH_LATITUDE 47 22 30.000 *
SOUTH_LATITUDE 47 15 0.000 *
PRODUCTION_DATE 2004 9 28 *
RASTER_ORDER LEFT_RIGHT/TOP_BOTTOM *
BAND_ORGANIZATION "SINGLE FILE" *
BAND_CONTENT BLACK&WHITE *
BITS_PER_PIXEL 8 *
SAMPLES_AND_LINES 10619 14836 *
HORIZONTAL_DATUM NAD83 *
HORIZONTAL_COORDINATE_SYSTEM UTM *
COORDINATE_ZONE 12 *
HORIZONTAL_UNITS METERS *
HORIZONTAL_RESOLUTION 1.0 *
SECONDARY_HORIZONTAL_DATUM NAD27 *
XY_ORIGIN 282084.444 5251146.036 *
SECONDARY_XY_ORIGIN 282148.322 5250932.288 *
NATION US *
STATE MT *
NW_QUAD_CORNER_XY 282967.919 5250846.036 *
NE_QUAD_CORNER_XY 292403.488 5250504.961 *
SE_QUAD_CORNER_XY 291913.054 5236614.680 *
SW_QUAD_CORNER_XY 282455.161 5236955.874 *
SECONDARY_NW_QUAD_XY 282961.180 5250627.472 *
SECONDARY_NE_QUAD_XY 292397.042 5250286.387 *
SECONDARY_SE_QUAD_XY 291906.609 5236396.154 *
SECONDARY_SW_QUAD_XY 282448.423 5236737.359 *
RMSE_XY 1.13 *
IMAGE_SOURCE "BLACK AND WHITE FILM" *
SOURCE_IMAGE_ID "NAPP 12677 180" *
SOURCE_IMAGE_DATE 2003 9 24 *
SOURCE_IMAGE_ID "NAPP 12677 178" *
SOURCE_IMAGE_DATE 2003 9 24 *
SOURCE_IMAGE_ID "NAPP 12677 69" *
SOURCE_IMAGE_DATE 2003 9 24 *
SOURCE_IMAGE_ID "NAPP 12677 67" *
SOURCE_IMAGE_DATE 2003 9 24 *
SOURCE_IMAGE_ID "NAPP 12677 181" *
SOURCE_IMAGE_DATE 2003 9 24 *
SOURCE_IMAGE_ID "NAPP 12677 179" *
SOURCE_IMAGE_DATE 2003 9 24 *
SOURCE_IMAGE_ID "NAPP 12677 177" *
SOURCE_IMAGE_DATE 2003 9 24 *
SOURCE_IMAGE_ID "NAPP 12677 66" *
SOURCE_IMAGE_DATE 2003 9 24 *
SOURCE_IMAGE_ID "NAPP 12677 68" *
SOURCE_IMAGE_DATE 2003 9 24 *
SOURCE_IMAGE_ID "NAPP 12677 70" *
SOURCE_IMAGE_DATE 2003 9 24 *
SOURCE_IMAGE_ID "NAPP 12679 276" *
SOURCE_IMAGE_DATE 2003 9 27 *
SOURCE_IMAGE_ID "NAPP 12679 275" *
SOURCE_IMAGE_DATE 2003 9 27 *
SOURCE_IMAGE_ID "NAPP 12679 274" *
SOURCE_IMAGE_DATE 2003 9 27 *
SOURCE_IMAGE_ID "NAPP 12679 273" *
SOURCE_IMAGE_DATE 2003 9 27 *
SOURCE_IMAGE_ID "NAPP 12679 272" *
SOURCE_IMAGE_DATE 2003 9 27 *
SOURCE_DEM_DATE 2004 1 1 *
AGENCY "WESTERN MAPPING CENTER (WMC)" *
PRODUCER "USDA FS GEOSPATIAL SERVICE AND TECHNOLOGY CENTER" *
PRODUCTION_SYSTEM "ORBIT OR_RECTIFY V.5.2" *
STANDARD_VERSION 1996 12 *
METADATA_DATE 2004 10 4 *
DATA_FILE_SIZE 157554103 *
BYTE_COUNT 10619 * *
