FILENAME: O4711340.NES.958304.tif
QUADRANGLE_NAME: TRAP MOUNTAIN
QUADRANT: NE
WEST_LONGITUDE: -113 3 45.00000
EAST_LONGITUDE: -113 0 0.00000
NORTH_LATITUDE: 47 30 0.00000
SOUTH_LATITUDE: 47 26 15.00000
PRODUCTION_DATE: 1998 12 10
RASTER_ORDER: LEFT_RIGHT/TOP_BOTTOM
BAND_ORGANIZATION: SINGLE FILE
BAND_CONTENT: BLACK&WHITE
BAND_CONTENT: UNDEFINED
BAND_CONTENT: UNDEFINED
BITS_PER_PIXEL: 8
SAMPLES_AND_LINES: 5580 7710
HORIZONTAL_DATUM: NAD83
HORIZONTAL_COORDINATE_SYSTEM: UTM
COORDINATE_ZONE: 12
HORIZONTAL_UNITS: METERS
HORIZONTAL_RESOLUTION: 1.00000
SECONDARY_HORIZONTAL_DATUM: NAD27
XY_ORIGIN: 344100.00000 5263110.00000
SECONDARY_XY_ORIGIN: 344162.15800 5262896.02100
NATION: US
STATE: MT
NW_QUAD_CORNER_XY: 344668.93400 5262791.41000
NE_QUAD_CORNER_XY: 349375.76900 5262668.33200
SE_QUAD_CORNERY_XY: 349197.03500 5255722.72200
SW_QUAD_CORNER_XY: 344484.61000 5255845.82400
SECONDARY_NW_QUAD_XY: 344664.09600 5262572.74000
SECONDARY_NE_QUAD_XY: 349371.07800 5262449.65700
SECONDARY_SE_QUAD_XY: 349192.34400 5255504.07000
SECONDARY_SW_QUAD_XY: 344479.77300 5255627.17500
RMSE_XY: 4.57000
IMAGE_SOURCE: BLACK AND WHITE FILM
SOURCE_IMAGE_ID: NAPP 8399 12
SOURCE_IMAGE_DATE: 1995 08 28
SOURCE_IMAGE_ID: NAPP 8399 11
SOURCE_IMAGE_DATE: 1995 08 28
SOURCE_DEM_DATE: 1997 00 00
AGENCY: WESTERN MAPPING CENTER (WMC)
PRODUCER: ANALYTICAL SURVEYS INC.
PRODUCTION_SYSTEM: ORBIT OR_RECTIFY V.5.2
COMPRESSION: UNDEFINED
STANDARD_VERSION: 1996 12
METADATA_DATE: 1998 12 31
DATA_FILE_SIZE: 43027380
BYTE_COUNT: 5580
