FILENAME: O4711340.SES.958306.tif
QUADRANGLE_NAME: TRAP MOUNTAIN
QUADRANT: SE
WEST_LONGITUDE: -113 3 45.00000
EAST_LONGITUDE: -113 0 0.00000
NORTH_LATITUDE: 47 26 15.00000
SOUTH_LATITUDE: 47 22 30.00000
PRODUCTION_DATE: 1998 12 10
RASTER_ORDER: LEFT_RIGHT/TOP_BOTTOM
BAND_ORGANIZATION: SINGLE FILE
BAND_CONTENT: BLACK&WHITE
BAND_CONTENT: UNDEFINED
BAND_CONTENT: UNDEFINED
BITS_PER_PIXEL: 8
SAMPLES_AND_LINES: 5580 7680
HORIZONTAL_DATUM: NAD83
HORIZONTAL_COORDINATE_SYSTEM: UTM
COORDINATE_ZONE: 12
HORIZONTAL_UNITS: METERS
HORIZONTAL_RESOLUTION: 1.00000
SECONDARY_HORIZONTAL_DATUM: NAD27
XY_ORIGIN: 343920.00000 5256150.00000
SECONDARY_XY_ORIGIN: 343982.22800 5255936.05000
NATION: US
STATE: MT
NW_QUAD_CORNER_XY: 344484.61000 5255845.82400
NE_QUAD_CORNER_XY: 349197.03500 5255722.72200
SE_QUAD_CORNERY_XY: 349018.48100 5248777.17900
SW_QUAD_CORNER_XY: 344300.47200 5248900.30300
SECONDARY_NW_QUAD_XY: 344479.77300 5255627.17500
SECONDARY_NE_QUAD_XY: 349192.34400 5255504.07000
SECONDARY_SE_QUAD_XY: 349013.79000 5248558.55000
SECONDARY_SW_QUAD_XY: 344295.63500 5248681.67800
RMSE_XY: 4.57000
IMAGE_SOURCE: BLACK AND WHITE FILM
SOURCE_IMAGE_ID: NAPP 8399 14
SOURCE_IMAGE_DATE: 1995 08 28
SOURCE_DEM_DATE: 1997 00 00
AGENCY: WESTERN MAPPING CENTER (WMC)
PRODUCER: ANALYTICAL SURVEYS INC.
PRODUCTION_SYSTEM: ORBIT OR_RECTIFY V.5.2
COMPRESSION: UNDEFINED
STANDARD_VERSION: 1996 12
METADATA_DATE: 1998 12 31
DATA_FILE_SIZE: 42859980
BYTE_COUNT: 5580
