FILENAME: O4711339.NES.958280.tif
QUADRANGLE_NAME: PILOT PEAK
QUADRANT: NE
WEST_LONGITUDE: -113 11 15.00000
EAST_LONGITUDE: -113 7 30.00000
NORTH_LATITUDE: 47 30 0.00000
SOUTH_LATITUDE: 47 26 15.00000
PRODUCTION_DATE: 1998 12 10
RASTER_ORDER: LEFT_RIGHT/TOP_BOTTOM
BAND_ORGANIZATION: SINGLE FILE
BAND_CONTENT: BLACK&WHITE
BAND_CONTENT: UNDEFINED
BAND_CONTENT: UNDEFINED
BITS_PER_PIXEL: 8
SAMPLES_AND_LINES: 5610 7710
HORIZONTAL_DATUM: NAD83
HORIZONTAL_COORDINATE_SYSTEM: UTM
COORDINATE_ZONE: 12
HORIZONTAL_UNITS: METERS
HORIZONTAL_RESOLUTION: 1.00000
SECONDARY_HORIZONTAL_DATUM: NAD27
XY_ORIGIN: 334680.00000 5263350.00000
SECONDARY_XY_ORIGIN: 334742.33300 5263136.05000
NATION: US
STATE: MT
NW_QUAD_CORNER_XY: 335255.31300 5263048.93800
NE_QUAD_CORNER_XY: 339962.11600 5262918.27900
SE_QUAD_CORNERY_XY: 339772.20200 5255972.71600
SW_QUAD_CORNER_XY: 335059.80900 5256103.39900
SECONDARY_NW_QUAD_XY: 335250.18200 5262830.27600
SECONDARY_NE_QUAD_XY: 339957.13100 5262699.61300
SECONDARY_SE_QUAD_XY: 339767.21700 5255754.07200
SECONDARY_SW_QUAD_XY: 335054.67800 5255884.75900
RMSE_XY: 2.30000
IMAGE_SOURCE: BLACK AND WHITE FILM
SOURCE_IMAGE_ID: NAPP 8401 136
SOURCE_IMAGE_DATE: 1995 08 31
SOURCE_IMAGE_ID: NAPP 8401 138
SOURCE_IMAGE_DATE: 1995 08 31
SOURCE_IMAGE_ID: NAPP 8401 134
SOURCE_IMAGE_DATE: 1995 08 31
SOURCE_IMAGE_ID: NAPP 8398 147
SOURCE_IMAGE_DATE: 1995 08 28
SOURCE_DEM_DATE: 1997 00 00
AGENCY: WESTERN MAPPING CENTER (WMC)
PRODUCER: ANALYTICAL SURVEYS INC.
PRODUCTION_SYSTEM: ORBIT OR_RECTIFY V.5.2
COMPRESSION: UNDEFINED
STANDARD_VERSION: 1996 12
METADATA_DATE: 1998 12 22
DATA_FILE_SIZE: 43258710
BYTE_COUNT: 5610
