FILENAME: O4711331.SWS.958279.tif
QUADRANGLE_NAME: HAYSTACK MOUNTAIN
QUADRANT: SW
WEST_LONGITUDE: -113 15 0.00000
EAST_LONGITUDE: -113 11 15.00000
NORTH_LATITUDE: 47 33 45.00000
SOUTH_LATITUDE: 47 30 0.00000
PRODUCTION_DATE: 1998 12 10
RASTER_ORDER: LEFT_RIGHT/TOP_BOTTOM
BAND_ORGANIZATION: SINGLE FILE
BAND_CONTENT: BLACK&WHITE
BAND_CONTENT: UNDEFINED
BAND_CONTENT: UNDEFINED
BITS_PER_PIXEL: 8
SAMPLES_AND_LINES: 5580 7710
HORIZONTAL_DATUM: NAD83
HORIZONTAL_COORDINATE_SYSTEM: UTM
COORDINATE_ZONE: 12
HORIZONTAL_UNITS: METERS
HORIZONTAL_RESOLUTION: 1.00000
SECONDARY_HORIZONTAL_DATUM: NAD27
XY_ORIGIN: 330180.00000 5270430.00000
SECONDARY_XY_ORIGIN: 330242.43100 5270216.01400
NATION: US
STATE: MT
NW_QUAD_CORNER_XY: 330749.82700 5270128.96600
NE_QUAD_CORNER_XY: 335451.01500 5269994.54200
SE_QUAD_CORNERY_XY: 335255.31300 5263048.93800
SW_QUAD_CORNER_XY: 330548.52800 5263183.38800
SECONDARY_NW_QUAD_XY: 330744.54800 5269910.28600
SECONDARY_NE_QUAD_XY: 335445.88400 5269775.85800
SECONDARY_SE_QUAD_XY: 335250.18200 5262830.27600
SECONDARY_SW_QUAD_XY: 330543.25000 5262964.72900
RMSE_XY: 4.48000
IMAGE_SOURCE: BLACK AND WHITE FILM
SOURCE_IMAGE_ID: NAPP 8398 145
SOURCE_IMAGE_DATE: 1995 08 28
SOURCE_IMAGE_ID: NAPP 8401 138
SOURCE_IMAGE_DATE: 1995 08 31
SOURCE_IMAGE_ID: NAPP 8398 143
SOURCE_IMAGE_DATE: 1995 08 28
SOURCE_DEM_DATE: 1997 00 00
AGENCY: WESTERN MAPPING CENTER (WMC)
PRODUCER: ANALYTICAL SURVEYS INC.
PRODUCTION_SYSTEM: ORBIT OR_RECTIFY V.5.2
COMPRESSION: UNDEFINED
STANDARD_VERSION: 1996 12
METADATA_DATE: 1998 12 22
DATA_FILE_SIZE: 43027380
BYTE_COUNT: 5580
