FILENAME: O4711315.NWS.958325.tif
QUADRANGLE_NAME: BUNGALOW MOUNTAIN
QUADRANT: NW
WEST_LONGITUDE: -113 15 0.00000
EAST_LONGITUDE: -113 11 15.00000
NORTH_LATITUDE: 47 52 30.00000
SOUTH_LATITUDE: 47 48 45.00000
PRODUCTION_DATE: 1998 12 10
RASTER_ORDER: LEFT_RIGHT/TOP_BOTTOM
BAND_ORGANIZATION: SINGLE FILE
BAND_CONTENT: BLACK&WHITE
BAND_CONTENT: UNDEFINED
BAND_CONTENT: UNDEFINED
BITS_PER_PIXEL: 8
SAMPLES_AND_LINES: 5580 7710
HORIZONTAL_DATUM: NAD83
HORIZONTAL_COORDINATE_SYSTEM: UTM
COORDINATE_ZONE: 12
HORIZONTAL_UNITS: METERS
HORIZONTAL_RESOLUTION: 1.00000
SECONDARY_HORIZONTAL_DATUM: NAD27
XY_ORIGIN: 331170.00000 5305170.00000
SECONDARY_XY_ORIGIN: 331232.61400 5304955.40600
NATION: US
STATE: MT
NW_QUAD_CORNER_XY: 331759.35500 5304857.82100
NE_QUAD_CORNER_XY: 336432.47700 5304723.53600
SE_QUAD_CORNERY_XY: 336235.79200 5297777.60700
SW_QUAD_CORNER_XY: 331557.04500 5297911.92100
SECONDARY_NW_QUAD_XY: 331754.07400 5304639.04900
SECONDARY_NE_QUAD_XY: 336427.34300 5304504.75900
SECONDARY_SE_QUAD_XY: 336230.65800 5297558.84700
SECONDARY_SW_QUAD_XY: 331551.76400 5297693.16600
RMSE_XY: 3.73000
IMAGE_SOURCE: BLACK AND WHITE FILM
SOURCE_IMAGE_ID: NAPP 8398 135
SOURCE_IMAGE_DATE: 1995 08 28
SOURCE_IMAGE_ID: NAPP 8401 148
SOURCE_IMAGE_DATE: 1995 08 31
SOURCE_IMAGE_ID: NAPP 8398 137
SOURCE_IMAGE_DATE: 1995 08 28
SOURCE_DEM_DATE: 1990 00 00
AGENCY: WESTERN MAPPING CENTER (WMC)
PRODUCER: ANALYTICAL SURVEYS INC.
PRODUCTION_SYSTEM: ORBIT OR_RECTIFY V.5.2
COMPRESSION: UNDEFINED
STANDARD_VERSION: 1996 12
METADATA_DATE: 1998 12 16
DATA_FILE_SIZE: 43027380
BYTE_COUNT: 5580
