FILENAME: O4711307.SES.46904.tif
QUADRANGLE_NAME: TRILOBITE PEAK
QUADRANT: SE
WEST_LONGITUDE: -113 11 15.00000
EAST_LONGITUDE: -113 7 30.00000
NORTH_LATITUDE: 47 56 15.00000
SOUTH_LATITUDE: 47 52 30.00000
PRODUCTION_DATE: 1995 4 28
RASTER_ORDER: LEFT_RIGHT/TOP_BOTTOM
BAND_ORGANIZATION: SINGLE FILE
BAND_CONTENT: BLACK&WHITE
BAND_CONTENT: UNDEFINED
BAND_CONTENT: UNDEFINED
BITS_PER_PIXEL: 8
SAMPLES_AND_LINES: 5535 7684
HORIZONTAL_DATUM: NAD83
HORIZONTAL_COORDINATE_SYSTEM: UTM
COORDINATE_ZONE: 12
HORIZONTAL_UNITS: METERS
HORIZONTAL_RESOLUTION: 1.00000
SECONDARY_HORIZONTAL_DATUM: NAD27
XY_ORIGIN: 336063.00000 5311970.00000
SECONDARY_XY_ORIGIN: 336125.57000 5311755.20000
NATION: US
STATE: MT
NW_QUAD_CORNER_XY: 336629.36000 5311669.53000
NE_QUAD_CORNER_XY: 341296.87000 5311539.06000
SE_QUAD_CORNERY_XY: 341105.62000 5304593.04000
SW_QUAD_CORNER_XY: 336432.48000 5304723.54000
SECONDARY_NW_QUAD_XY: 336624.22000 5311450.74000
SECONDARY_NE_QUAD_XY: 341291.88000 5311320.26000
SECONDARY_SE_QUAD_XY: 341100.63000 5304374.25000
SECONDARY_SW_QUAD_XY: 336427.34000 5304504.76000
RMSE_XY: 3.50000
IMAGE_SOURCE: BLACK AND WHITE FILM
SOURCE_IMAGE_ID: NAPP 2611 45
SOURCE_IMAGE_DATE: 1990 8 8
SOURCE_IMAGE_ID: NAPP 2611 2611
SOURCE_IMAGE_DATE: 1990 8 8
SOURCE_IMAGE_ID: NAPP 2611 44
SOURCE_IMAGE_DATE: 1990 8 8
SOURCE_DEM_DATE: 1995 4 28
AGENCY: WESTERN MAPPING CENTER (WMC)
PRODUCER: Science Applications International
PRODUCTION_SYSTEM: GIS/MAGIC
COMPRESSION: UNDEFINED
STANDARD_VERSION: 1996 12
METADATA_DATE: 1997 7 4
DATA_FILE_SIZE: 42536475
BYTE_COUNT: 5535
