FILENAME: O4711306.NWS.47101.tif
QUADRANGLE_NAME: WHITCOMB PEAK
QUADRANT: NW
WEST_LONGITUDE: -113 22 30.00000
EAST_LONGITUDE: -113 18 45.00000
NORTH_LATITUDE: 48 0 0.00000
SOUTH_LATITUDE: 47 56 15.00000
PRODUCTION_DATE: 1994 11 14
RASTER_ORDER: LEFT_RIGHT/TOP_BOTTOM
BAND_ORGANIZATION: SINGLE FILE
BAND_CONTENT: BLACK&WHITE
BAND_CONTENT: UNDEFINED
BAND_CONTENT: UNDEFINED
BITS_PER_PIXEL: 8
SAMPLES_AND_LINES: 5547 7695
HORIZONTAL_DATUM: NAD83
HORIZONTAL_COORDINATE_SYSTEM: UTM
COORDINATE_ZONE: 12
HORIZONTAL_UNITS: METERS
HORIZONTAL_RESOLUTION: 1.00000
SECONDARY_HORIZONTAL_DATUM: NAD27
XY_ORIGIN: 322257.00000 5319330.00000
SECONDARY_XY_ORIGIN: 322319.95100 5319114.81200
NATION: US
STATE: MT
NW_QUAD_CORNER_XY: 322840.92800 5319029.61900
NE_QUAD_CORNER_XY: 327502.74300 5318887.82400
SE_QUAD_CORNERY_XY: 327294.39400 5311941.82600
SW_QUAD_CORNER_XY: 322626.94300 5312083.65300
SECONDARY_NW_QUAD_XY: 322835.35200 5318810.82400
SECONDARY_NE_QUAD_XY: 327497.31400 5318669.02500
SECONDARY_SE_QUAD_XY: 327288.96600 5311723.04200
SECONDARY_SW_QUAD_XY: 322621.36800 5311864.87400
RMSE_XY: 2.30000
IMAGE_SOURCE: BLACK AND WHITE FILM
SOURCE_IMAGE_ID: NAPP 2635 021
SOURCE_IMAGE_DATE: 1991 8 4
SOURCE_DEM_DATE: 1994 11 14
AGENCY: WESTERN MAPPING CENTER (WMC)
PRODUCER: Science Applications International
PRODUCTION_SYSTEM: IIS/PRISM
COMPRESSION: UNDEFINED
STANDARD_VERSION: 1996 12
METADATA_DATE: 1997 7 4
DATA_FILE_SIZE: 42689712
BYTE_COUNT: 5547
