FILENAME: O4711305.SES.47292.tif
QUADRANGLE_NAME: SPOTTED BEAR MOUNTAIN
QUADRANT: SE
WEST_LONGITUDE: -113 26 15.00000
EAST_LONGITUDE: -113 22 30.00000
NORTH_LATITUDE: 47 56 15.00000
SOUTH_LATITUDE: 47 52 30.00000
PRODUCTION_DATE: 1995 4 28
RASTER_ORDER: LEFT_RIGHT/TOP_BOTTOM
BAND_ORGANIZATION: SINGLE FILE
BAND_CONTENT: BLACK&WHITE
BAND_CONTENT: UNDEFINED
BAND_CONTENT: UNDEFINED
BITS_PER_PIXEL: 8
SAMPLES_AND_LINES: 5558 7699
HORIZONTAL_DATUM: NAD83
HORIZONTAL_COORDINATE_SYSTEM: UTM
COORDINATE_ZONE: 12
HORIZONTAL_UNITS: METERS
HORIZONTAL_RESOLUTION: 1.00000
SECONDARY_HORIZONTAL_DATUM: NAD27
XY_ORIGIN: 317370.00000 5312530.00000
SECONDARY_XY_ORIGIN: 317433.02000 5312314.97000
NATION: US
STATE: MT
NW_QUAD_CORNER_XY: 317959.51000 5312229.26000
NE_QUAD_CORNER_XY: 322626.94000 5312083.65000
SE_QUAD_CORNERY_XY: 322413.17000 5305137.75000
SW_QUAD_CORNER_XY: 317740.11000 5305283.40000
SECONDARY_NW_QUAD_XY: 317953.79000 5312010.49000
SECONDARY_NE_QUAD_XY: 322621.37000 5311864.87000
SECONDARY_SE_QUAD_XY: 322407.60000 5304918.99000
SECONDARY_SW_QUAD_XY: 317734.39000 5305064.64000
RMSE_XY: 3.40000
IMAGE_SOURCE: BLACK AND WHITE FILM
SOURCE_IMAGE_ID: NAPP 2634 112
SOURCE_IMAGE_DATE: 1991 8 3
SOURCE_IMAGE_ID: NAPP 2634 2634
SOURCE_IMAGE_DATE: 1991 8 3
SOURCE_IMAGE_ID: NAPP 2634 113
SOURCE_IMAGE_DATE: 1991 8 3
SOURCE_DEM_DATE: 1995 4 28
AGENCY: WESTERN MAPPING CENTER (WMC)
PRODUCER: Science Applications International
PRODUCTION_SYSTEM: GIS/MAGIC
COMPRESSION: UNDEFINED
STANDARD_VERSION: 1996 12
METADATA_DATE: 1997 7 4
DATA_FILE_SIZE: 42796600
BYTE_COUNT: 5558
