FILENAME: O4711303.NES.47651.tif
QUADRANGLE_NAME: CONNOR CREEK
QUADRANT: NE
WEST_LONGITUDE: -113 41 15.00000
EAST_LONGITUDE: -113 37 30.00000
NORTH_LATITUDE: 48 0 0.00000
SOUTH_LATITUDE: 47 56 15.00000
PRODUCTION_DATE: 1994 11 14
RASTER_ORDER: LEFT_RIGHT/TOP_BOTTOM
BAND_ORGANIZATION: SINGLE FILE
BAND_CONTENT: BLACK&WHITE
BAND_CONTENT: UNDEFINED
BAND_CONTENT: UNDEFINED
BITS_PER_PIXEL: 8
SAMPLES_AND_LINES: 5576 7713
HORIZONTAL_DATUM: NAD83
HORIZONTAL_COORDINATE_SYSTEM: UTM
COORDINATE_ZONE: 12
HORIZONTAL_UNITS: METERS
HORIZONTAL_RESOLUTION: 1.00000
SECONDARY_HORIZONTAL_DATUM: NAD27
XY_ORIGIN: 298919.00000 5320096.00000
SECONDARY_XY_ORIGIN: 298981.93000 5319880.35300
NATION: US
STATE: MT
NW_QUAD_CORNER_XY: 299532.19500 5319795.37300
NE_QUAD_CORNER_XY: 304193.89400 5319634.65000
SE_QUAD_CORNERY_XY: 303957.35900 5312688.82100
SW_QUAD_CORNER_XY: 299290.02100 5312849.58000
SECONDARY_NW_QUAD_XY: 299525.88600 5319576.60200
SECONDARY_NE_QUAD_XY: 304187.73100 5319415.87500
SECONDARY_SE_QUAD_XY: 303951.19700 5312470.06100
SECONDARY_SW_QUAD_XY: 299283.71200 5312630.82400
RMSE_XY: 4.00000
IMAGE_SOURCE: BLACK AND WHITE FILM
SOURCE_IMAGE_ID: NAPP 2610 043
SOURCE_IMAGE_DATE: 1990 8 7
SOURCE_DEM_DATE: 1994 11 14
AGENCY: WESTERN MAPPING CENTER (WMC)
PRODUCER: Science Applications International
PRODUCTION_SYSTEM: IIS/PRISM
COMPRESSION: UNDEFINED
STANDARD_VERSION: 1996 12
METADATA_DATE: 1997 7 4
DATA_FILE_SIZE: 43013264
BYTE_COUNT: 5576
