FILENAME: O4711303.SES.47653.tif
QUADRANGLE_NAME: CONNOR CREEK
QUADRANT: SE
WEST_LONGITUDE: -113 41 15.00000
EAST_LONGITUDE: -113 37 30.00000
NORTH_LATITUDE: 47 56 15.00000
SOUTH_LATITUDE: 47 52 30.00000
PRODUCTION_DATE: 1994 11 14
RASTER_ORDER: LEFT_RIGHT/TOP_BOTTOM
BAND_ORGANIZATION: SINGLE FILE
BAND_CONTENT: BLACK&WHITE
BAND_CONTENT: UNDEFINED
BAND_CONTENT: UNDEFINED
BITS_PER_PIXEL: 8
SAMPLES_AND_LINES: 5582 7713
HORIZONTAL_DATUM: NAD83
HORIZONTAL_COORDINATE_SYSTEM: UTM
COORDINATE_ZONE: 12
HORIZONTAL_UNITS: METERS
HORIZONTAL_RESOLUTION: 1.00000
SECONDARY_HORIZONTAL_DATUM: NAD27
XY_ORIGIN: 298677.00000 5313150.00000
SECONDARY_XY_ORIGIN: 298740.02000 5312934.60700
NATION: US
STATE: MT
NW_QUAD_CORNER_XY: 299290.02100 5312849.58000
NE_QUAD_CORNER_XY: 303957.35900 5312688.82100
SE_QUAD_CORNERY_XY: 303721.05800 5305743.05200
SW_QUAD_CORNER_XY: 299048.08700 5305903.84600
SECONDARY_NW_QUAD_XY: 299283.71200 5312630.82400
SECONDARY_NE_QUAD_XY: 303951.19700 5312470.06100
SECONDARY_SE_QUAD_XY: 303714.89700 5305524.30800
SECONDARY_SW_QUAD_XY: 299041.77900 5305685.10700
RMSE_XY: 3.40000
IMAGE_SOURCE: BLACK AND WHITE FILM
SOURCE_IMAGE_ID: NAPP 2610 045
SOURCE_IMAGE_DATE: 1990 8 7
SOURCE_DEM_DATE: 1994 11 14
AGENCY: WESTERN MAPPING CENTER (WMC)
PRODUCER: Science Applications International
PRODUCTION_SYSTEM: IIS/PRISM
COMPRESSION: UNDEFINED
STANDARD_VERSION: 1996 12
METADATA_DATE: 1997 7 4
DATA_FILE_SIZE: 43059548
BYTE_COUNT: 5582
