FILENAME: O4711301.NES.47949.tif
QUADRANGLE_NAME: YEW CREEK
QUADRANT: NE
WEST_LONGITUDE: -113 56 15.00000
EAST_LONGITUDE: -113 52 30.00000
NORTH_LATITUDE: 48 0 0.00000
SOUTH_LATITUDE: 47 56 15.00000
PRODUCTION_DATE: 1994 11 14
RASTER_ORDER: LEFT_RIGHT/TOP_BOTTOM
BAND_ORGANIZATION: SINGLE FILE
BAND_CONTENT: BLACK&WHITE
BAND_CONTENT: UNDEFINED
BAND_CONTENT: UNDEFINED
BITS_PER_PIXEL: 8
SAMPLES_AND_LINES: 5600 7728
HORIZONTAL_DATUM: NAD83
HORIZONTAL_COORDINATE_SYSTEM: UTM
COORDINATE_ZONE: 12
HORIZONTAL_UNITS: METERS
HORIZONTAL_RESOLUTION: 1.00000
SECONDARY_HORIZONTAL_DATUM: NAD27
XY_ORIGIN: 280249.00000 5320777.00000
SECONDARY_XY_ORIGIN: 280312.20300 5320561.06400
NATION: US
STATE: MT
NW_QUAD_CORNER_XY: 280885.65300 5320476.13100
NE_QUAD_CORNER_XY: 285547.24900 5320300.26000
SE_QUAD_CORNERY_XY: 285288.15600 5313354.58200
SW_QUAD_CORNER_XY: 280620.91900 5313530.49200
SECONDARY_NW_QUAD_XY: 280878.75700 5320257.38200
SECONDARY_NE_QUAD_XY: 285540.50000 5320081.50600
SECONDARY_SE_QUAD_XY: 285281.40700 5313135.84200
SECONDARY_SW_QUAD_XY: 280614.02300 5313311.75800
RMSE_XY: 3.60000
IMAGE_SOURCE: BLACK AND WHITE FILM
SOURCE_IMAGE_ID: NAPP 2631 043
SOURCE_IMAGE_DATE: 1991 7 20
SOURCE_DEM_DATE: 1994 11 14
AGENCY: WESTERN MAPPING CENTER (WMC)
PRODUCER: Science Applications International
PRODUCTION_SYSTEM: IIS/PRISM
COMPRESSION: UNDEFINED
STANDARD_VERSION: 1996 12
METADATA_DATE: 1997 6 19
DATA_FILE_SIZE: 43282400
BYTE_COUNT: 5600
