FILENAME: O4711301.SES.47951.tif
QUADRANGLE_NAME: YEW CREEK
QUADRANT: SE
WEST_LONGITUDE: -113 56 15.00000
EAST_LONGITUDE: -113 52 30.00000
NORTH_LATITUDE: 47 56 15.00000
SOUTH_LATITUDE: 47 52 30.00000
PRODUCTION_DATE: 1994 11 14
RASTER_ORDER: LEFT_RIGHT/TOP_BOTTOM
BAND_ORGANIZATION: SINGLE FILE
BAND_CONTENT: BLACK&WHITE
BAND_CONTENT: UNDEFINED
BAND_CONTENT: UNDEFINED
BITS_PER_PIXEL: 8
SAMPLES_AND_LINES: 5605 7728
HORIZONTAL_DATUM: NAD83
HORIZONTAL_COORDINATE_SYSTEM: UTM
COORDINATE_ZONE: 12
HORIZONTAL_UNITS: METERS
HORIZONTAL_RESOLUTION: 1.00000
SECONDARY_HORIZONTAL_DATUM: NAD27
XY_ORIGIN: 279985.00000 5313831.00000
SECONDARY_XY_ORIGIN: 280048.29700 5313615.33800
NATION: US
STATE: MT
NW_QUAD_CORNER_XY: 280620.91900 5313530.49200
NE_QUAD_CORNER_XY: 285288.15600 5313354.58200
SE_QUAD_CORNERY_XY: 285029.32000 5306408.96000
SW_QUAD_CORNER_XY: 280356.44800 5306584.90900
SECONDARY_NW_QUAD_XY: 280614.02300 5313311.75800
SECONDARY_NE_QUAD_XY: 285281.40700 5313135.84200
SECONDARY_SE_QUAD_XY: 285022.57100 5306190.23600
SECONDARY_SW_QUAD_XY: 280349.55200 5306366.19100
RMSE_XY: 2.80000
IMAGE_SOURCE: BLACK AND WHITE FILM
SOURCE_IMAGE_ID: NAPP 2631 045
SOURCE_IMAGE_DATE: 1991 7 20
SOURCE_DEM_DATE: 1994 11 14
AGENCY: WESTERN MAPPING CENTER (WMC)
PRODUCER: Science Applications International
PRODUCTION_SYSTEM: IIS/PRISM
COMPRESSION: UNDEFINED
STANDARD_VERSION: 1996 12
METADATA_DATE: 1997 6 19
DATA_FILE_SIZE: 43321045
BYTE_COUNT: 5605
