FILENAME: O4711464.SES.48104.tif
QUADRANGLE_NAME: EVARO
QUADRANT: SE
WEST_LONGITUDE: -114 3 45.00000
EAST_LONGITUDE: -114 0 0.00000
NORTH_LATITUDE: 47 3 45.00000
SOUTH_LATITUDE: 47 0 0.00000
PRODUCTION_DATE: 1995 11 3
RASTER_ORDER: LEFT_RIGHT/TOP_BOTTOM
BAND_ORGANIZATION: SINGLE FILE
BAND_CONTENT: BLACK&WHITE
BAND_CONTENT: UNDEFINED
BAND_CONTENT: UNDEFINED
BITS_PER_PIXEL: 8
SAMPLES_AND_LINES: 5680 7750
HORIZONTAL_DATUM: NAD83
HORIZONTAL_COORDINATE_SYSTEM: UTM
COORDINATE_ZONE: 11
HORIZONTAL_UNITS: METERS
HORIZONTAL_RESOLUTION: 1.00000
SECONDARY_HORIZONTAL_DATUM: NAD27
XY_ORIGIN: 722680.00000 5216780.00000
SECONDARY_XY_ORIGIN: 722758.23000 5216572.58700
NATION: US
STATE: MT
NW_QUAD_CORNER_XY: 723057.64400 5216297.43900
NE_QUAD_CORNER_XY: 727803.24500 5216477.61700
SE_QUAD_CORNERY_XY: 728069.56500 5209532.84800
SW_QUAD_CORNER_XY: 723318.40700 5209352.64200
SECONDARY_NW_QUAD_XY: 723064.52900 5216079.00600
SECONDARY_NE_QUAD_XY: 727810.27700 5216259.18900
SECONDARY_SE_QUAD_XY: 728076.59500 5209314.44800
SECONDARY_SW_QUAD_XY: 723325.29100 5209134.23700
RMSE_XY: 4.10000
IMAGE_SOURCE: BLACK AND WHITE FILM
SOURCE_IMAGE_ID: NAPP 2641 143
SOURCE_IMAGE_DATE: 1990 7 1
SOURCE_DEM_DATE: 1995 11 3
AGENCY: WESTERN MAPPING CENTER (WMC)
PRODUCER: Analytical Surveys
PRODUCTION_SYSTEM: ORBIT OR_RECTIFY V.5.2
COMPRESSION: UNDEFINED
STANDARD_VERSION: 1996 12
METADATA_DATE: 1997 7 3
DATA_FILE_SIZE: 44025680
BYTE_COUNT: 5680
